BEGIN:VCALENDAR
VERSION:2.0
PRODID:-//wp-events-plugin.com//7.2.3.1//EN
TZID:Europe/Warsaw
X-WR-TIMEZONE:Europe/Warsaw
BEGIN:VEVENT
UID:49933@night4u.pl
DTSTART;TZID=Europe/Warsaw:20200314T220000
DTEND;TZID=Europe/Warsaw:20200315T060000
DTSTAMP:20200311T230146Z
URL:https://night4u.pl/wydarzenia/aq-live-act-jay-jay-sax-dj-qiu-dave-c/
SUMMARY:AQ Live Act : Jay Jay Sax &amp\; DJ Qiu &amp\; Dave C
DESCRIPTION:AQ Live Act zakręci Wam nieźle w głowach ! Już w tą sobot
 ę parkiet będą rozgrzewać DJ Qiu oraz Dave C\, których house'owe rytm
 y będą urozmaicać wyjątkowe\, saksofonowe brzmienia od Jay Jay Sax'a! 
 Szykujcie się na sporo muzycznych nowości i najlepsze tańce do białego
  rana! \n\n\n———————————————————\nMU
 SIC : DJ Qiu &amp\; Dave C &amp\; Jay Jay Sax\nPROMO : Wjazd Free &amp\; B
 ar -50% do 23:00\nSELEKCJA +21
ATTACH;FMTTYPE=image/jpeg:https://night4u.pl/wp-content/uploads/2020/03/17
 4277_image_88336103_3092920170718246_62461125270175744_o.jpg
CATEGORIES:opolskie
LOCATION:Aqarium Music Club - Nysa\, Piastowska 19\, Nysa\, 48-300\, Poland
GEO:50.475975;17.331974
X-APPLE-STRUCTURED-LOCATION;VALUE=URI;X-ADDRESS=Piastowska 19\, Nysa\, 48-3
 00\, Poland;X-APPLE-RADIUS=100;X-TITLE=Aqarium Music Club - Nysa:geo:50.47
 5975,17.331974
END:VEVENT
BEGIN:VTIMEZONE
TZID:Europe/Warsaw
X-LIC-LOCATION:Europe/Warsaw
BEGIN:STANDARD
DTSTART:20191027T020000
TZOFFSETFROM:+0200
TZOFFSETTO:+0100
TZNAME:CET
END:STANDARD
END:VTIMEZONE
END:VCALENDAR