BEGIN:VCALENDAR
VERSION:2.0
PRODID:-//wp-events-plugin.com//7.2.3.1//EN
TZID:Europe/Warsaw
X-WR-TIMEZONE:Europe/Warsaw
BEGIN:VEVENT
UID:35506@night4u.pl
DTSTART;TZID=Europe/Warsaw:20191109T220000
DTEND;TZID=Europe/Warsaw:20191110T050000
DTSTAMP:20191109T230148Z
URL:https://night4u.pl/wydarzenia/aq-live-act-marcin-urzedowski/
SUMMARY:AQ LIVE ACT/Marcin Urzędowski
DESCRIPTION:#AQLIVE to cykl imprez z udziałem muzyków\, którzy wypełnia
 ją nasz klub brzmieniami obok których nie da się przejść obojętnie!\
 n\nGościem specjalnym imprezy będzie...\n\nMarcin Urzędowski // Live Ac
 t !\n\nMuzyk perkusyjny\, regularnie uczestniczący w wielu projektach\nko
 ncertowych. Na swoim koncie ma występy podczas wielu\nznaczących wydarze
 ń kulturalnych\, zarówno na gruncie muzyki\nperkusyjnej improwizowanej\,
  teatralnej jak i szeroko pojętej muzyki\nrozrywkowej. Uczestnik wielu pr
 estiżowych międzynarodowych\nwarsztatów perkusyjnych i kursów mistrzow
 skich. Doskonale\nspełniający się muzyk w sferze muzyki klubowej\, do k
 tórej od lat\nakompaniuje na Djembe tworząc ciekawą hybrydę muzyki\nme
 chanicznej i perkusyjnego Live act granego na żywo. W tej materii występ
 ował m.in. z takimi sławami muzyki klubowej jak: Miss Mavrik\, Michael C
 anitrot\, Federico Scavo\, Nikki Nice\, Hanna Hansen. \n\n☆☆☆MUZA☆
 ☆☆\n✔ GRAND F\n\n✔22:00-23:00 -50% dla #WSZYSTKICH na barze!\n✔W
 STĘP FREE DO 23!\n\n-----------------------------------------------------
 -----------\n✔Sobota 9.11\n✔ Start: 22:00\n✔ Door selection
ATTACH;FMTTYPE=image/jpeg:https://night4u.pl/wp-content/uploads/2019/11/93
 427_image_74492268_2812572945419638_873429037555384320_o.jpg
CATEGORIES:opolskie
LOCATION:Aqarium Music Club - Nysa\, Piastowska 19\, Nysa\, 48-300\, Poland
GEO:50.475975;17.331974
X-APPLE-STRUCTURED-LOCATION;VALUE=URI;X-ADDRESS=Piastowska 19\, Nysa\, 48-3
 00\, Poland;X-APPLE-RADIUS=100;X-TITLE=Aqarium Music Club - Nysa:geo:50.47
 5975,17.331974
END:VEVENT
BEGIN:VTIMEZONE
TZID:Europe/Warsaw
X-LIC-LOCATION:Europe/Warsaw
BEGIN:STANDARD
DTSTART:20191027T020000
TZOFFSETFROM:+0200
TZOFFSETTO:+0100
TZNAME:CET
END:STANDARD
END:VTIMEZONE
END:VCALENDAR