BEGIN:VCALENDAR
VERSION:2.0
PRODID:-//wp-events-plugin.com//7.2.3.1//EN
TZID:Europe/Warsaw
X-WR-TIMEZONE:Europe/Warsaw
BEGIN:VEVENT
UID:31954@night4u.pl
DTSTART;TZID=Europe/Warsaw:20191018T220000
DTEND;TZID=Europe/Warsaw:20191019T060000
DTSTAMP:20191018T095517Z
URL:https://night4u.pl/wydarzenia/area-51-2/
SUMMARY:Area 51
DESCRIPTION:👽Hej\, młodzi!👽 ⠀ \n🛸Organizatorzy: @the_grand_amer
 ica @afterbeng 🛸 ⠀\n\nDziękujemy: ⠀\n\n🎬filmmakers @tamagot4i\,
  @krapixx ⠀\n🌌Graphic design &amp\; creator @saint_blaster ⠀\n🎧d
 j @djsubkowski ⠀\n💽music @lifeofvitya\n⠀\n🎟Wstęp: z listy darmo
 wy! 🎟 ⠀\n⠀\n❗️Uwaga! Konkurs! ❗️ ⠀\n🎁Zrób  repost w i
 nsta story z oznaczeniem @the_grand_america (koniecznie!) i już jesteś n
 a liście oraz możesz dostać  jeden z 5 prezentów!🎁 ⠀\n⠀\n🛍Wy
 niki - 18 października!🛍 ⠀\n⠀\n🔻Zniżki na barze: 🔻 ⠀\n
 🚀Shot - 6 zł 🚀⠀ ⠀\n🍻Piwa 8zł (do 24:00)🍻 🍻10zł (po 2
 4:00)🍻 ⠀ 🍸Cuba libre/ vodka soft - 10 zł 🍸 ⠀\n⠀\n💠Krak
 ów! 18 października! 22:00! Afterbeng\, ul. Rynek główny 28! 💠 ⠀\
 n⠀\n❗️Weź przyjaciela i do strefy!❗️
ATTACH;FMTTYPE=image/jpeg:https://night4u.pl/wp-content/uploads/2019/10/75
 442_image_73390816_927610560941509_5353454792028979200_n.jpg
CATEGORIES:małopolskie
END:VEVENT
BEGIN:VTIMEZONE
TZID:Europe/Warsaw
X-LIC-LOCATION:Europe/Warsaw
BEGIN:DAYLIGHT
DTSTART:20190331T030000
TZOFFSETFROM:+0100
TZOFFSETTO:+0200
TZNAME:CEST
END:DAYLIGHT
END:VTIMEZONE
END:VCALENDAR