BEGIN:VCALENDAR
VERSION:2.0
PRODID:-//wp-events-plugin.com//7.2.3.1//EN
TZID:Europe/Warsaw
X-WR-TIMEZONE:Europe/Warsaw
BEGIN:VEVENT
UID:41960@night4u.pl
DTSTART;TZID=Europe/Warsaw:20200117T220000
DTEND;TZID=Europe/Warsaw:20200118T060000
DTSTAMP:20200331T192115Z
URL:https://night4u.pl/wydarzenia/ariana-grande-night-lista-free-do-2300-2
 /
SUMMARY:Ariana Grande NIGHT // Lista Free Do 23:00
DESCRIPTION:LISTA FB WCHODZI FREE DO 23:00! \nWYSTARCZY KLIKNĄĆ "WEZMĘ U
 DZIAŁ"\nLISTĘ ZAMYKAMY O 19:00!\n\nTEJ NOCY NA DUŻEJ SALI GRAMY HITY AR
 IANY GRANDE I NIE TYLKO &lt\;3\nMAŁO TEGO! \nW PIĄTKI WRACA KULTOWE HAHO
 WE KARAOKE &lt\;3\n\n====================================\nZAGRAJĄ: \n===
 =================================\nHEAVEN: Dj Gazir\n=====================
 ===============\nPURGATORY / LATINO: DJ Darius\n==========================
 ==========\nABYS: Dj Meggz\n====================================\nHELL: M.
 W. Project\n====================================\nSTART: \n\n22:00 \n\nWst
 ęp 12 zł\n\nLISTA FB FREE DO 23:00 / LISTĘ ZAMYKAMY O 19:00
ATTACH;FMTTYPE=image/jpeg:https://night4u.pl/wp-content/uploads/2020/01/13
 2353_image_82159592_2521903514763966_8305029723126235136_o.jpg
CATEGORIES:dolnośląskie
LOCATION:HAH Wrocław\, ul. Oławska 11\, Wroclaw\, 50-105\, Poland
GEO:51.10848;17.035085
X-APPLE-STRUCTURED-LOCATION;VALUE=URI;X-ADDRESS=ul. Oławska 11\, Wroclaw\,
  50-105\, Poland;X-APPLE-RADIUS=100;X-TITLE=HAH Wrocław:geo:51.10848,17.0
 35085
END:VEVENT
BEGIN:VTIMEZONE
TZID:Europe/Warsaw
X-LIC-LOCATION:Europe/Warsaw
BEGIN:STANDARD
DTSTART:20191027T020000
TZOFFSETFROM:+0200
TZOFFSETTO:+0100
TZNAME:CET
END:STANDARD
END:VTIMEZONE
END:VCALENDAR