BEGIN:VCALENDAR
VERSION:2.0
PRODID:-//wp-events-plugin.com//7.2.3.1//EN
TZID:Europe/Warsaw
X-WR-TIMEZONE:Europe/Warsaw
BEGIN:VEVENT
UID:30684@night4u.pl
DTSTART;TZID=Europe/Warsaw:20191011T210000
DTEND;TZID=Europe/Warsaw:20191012T050000
DTSTAMP:20191015T103755Z
URL:https://night4u.pl/wydarzenia/around-the-world-piatek-11-10-band30-liv
 e/
SUMMARY:Around The World // Piątek 11.10 // Band30+ Live!
DESCRIPTION:W piątek\, 11 października\, zrobimy niemały przegląd świa
 towej muzyki rozrywkowej w najlepszej miejscówce dla trzydziestolatków! 
 Musisz być razem z nami!\n\nBarmani przygotują najsmaczniejsze drinki\, 
 na parkiecie czekać na Was będzie najlepiej wyselekcjonowana muzyka\, a 
 Wy stworzycie klimat\, jakiego jeszcze nie było... \n\nDO taktu zagra nas
 z niezawodny BAND30+ LIVE!\n\nLINE-UP:\nBAND30+ LIVE/SLIMYNOISE (OLD&amp\;
 NEW)\nDJ DŹWIĘK (CLUB SOUNDS)\n\n---------------------------------------
 ---------------------------------------------\nDla kogo jest Klub30 ? \nSz
 ykujemy dla Was miejsce\, w którym bez problemu znajdziecie wspólny jęz
 yk z innymi klubowiczami. Nie spotkasz tu swojej córki\, nie spotkasz tu 
 swoich studentów...\nZa to na pewno spotkasz ludzi\, którzy nie wyobraż
 ają sobie siedzieć wieczorem w domu.\n----------------------------------
 --------------------------------------------------\nSTART: 21:00\n\nWSTĘP
 :\ndo 23:00 - 10PLN\npo 23:00 - 15PLN\n\nRezerwacje: 574 649 583 (wtorek -
  sobota\, 16:00 - 19:00)\n\nW naszym klubie istnieje możliwość przygoto
 wania cateringu! To świetna opcja na wieczory panieńskie\, kawalerskie c
 zy spotkania biznesowe. Jeżeli jesteś zainteresowany/a - powiadom nas o 
 tym przy rezerwacji telefonicznej!\n\nNajlepiej po trzydziestce... :) \nOb
 owiązuje door selection
ATTACH;FMTTYPE=image/jpeg:https://night4u.pl/wp-content/uploads/2019/10/70
 770_image_71877845_2180877542205151_382786993160978432_o.jpg
CATEGORIES:lubelskie
LOCATION:Klub30 Lublin\, Lublin\, Poland
GEO:51.249038;22.552872
X-APPLE-STRUCTURED-LOCATION;VALUE=URI;X-ADDRESS=Lublin\, Poland;X-APPLE-RAD
 IUS=100;X-TITLE=Klub30 Lublin:geo:51.249038,22.552872
END:VEVENT
BEGIN:VTIMEZONE
TZID:Europe/Warsaw
X-LIC-LOCATION:Europe/Warsaw
BEGIN:DAYLIGHT
DTSTART:20190331T030000
TZOFFSETFROM:+0100
TZOFFSETTO:+0200
TZNAME:CEST
END:DAYLIGHT
END:VTIMEZONE
END:VCALENDAR