BEGIN:VCALENDAR
VERSION:2.0
PRODID:-//wp-events-plugin.com//7.2.3.1//EN
TZID:Europe/Warsaw
X-WR-TIMEZONE:Europe/Warsaw
BEGIN:VEVENT
UID:38407@night4u.pl
DTSTART;TZID=Europe/Warsaw:20200413T180000
DTEND;TZID=Europe/Warsaw:20200413T230000
DTSTAMP:20200404T145359Z
URL:https://night4u.pl/wydarzenia/as-i-lay-dying-emmure-whitechapel-13-iv-
 wroclaw/
SUMMARY:As I Lay Dying + Emmure\, Whitechapel / 13 IV / Wrocław
DESCRIPTION:🚨🚨 TRASA PRZENIESIONA 🚨🚨\n\n‼ W związku z zagro
 żeniem spowodowanym rozprzestrzenianiem się choroby COVID-19 oraz na moc
 y decyzji służb odpowiedzialnych za bezpieczeństwo i zdrowie publiczne 
 w Polsce i Europie\, cała trasa As I Lay Dying w towarzystwie Emmure\, Wh
 itechapel  i Une Misere została przeniesiona na późniejszy\, nieznany j
 eszcze termin. \n\nAs I Lay Dying oraz ich goście mieli wystąpić w Pols
 ce 12 kwietnia w klubie Progresja w Warszawie oraz 13 kwietnia we wrocław
 skim A2.  \n\n‼ Nowe terminy koncertów w Polsce nie zostały jeszcze us
 talone. Zachęcamy do zachowania posiadanych biletów\, ale w związku ze 
 zmianami\, umożliwiliśmy już dokonywanie zwrotów wejściówek w miejsc
 u ich zakupu. \n\n‼ Osoby\, które chcą zwrócić bilet zakupiony w skl
 epie Knock Out Productions\, proszone są o wysłanie wiadomości na adres
  mailowy: kasia@knockoutprod.net wraz z informacją o numerze zamówienia.
 \n\n‼ Osoby\, które zakupiły bilety w sieci Eventim lub Ebilet proszon
 e są o kontakt z infolinią: info@eventim.pl\, +48 22 59 18 383 | Ebilet:
  tel: (22) 122 80 99\n\n--\n\nKnock Out Productions prezentuje dwa kwietni
 owe koncerty As I Lay Dying w towarzystwie wyjątkowych gości! \n\nAmeryk
 anie przyjadą do Polski\, by promować swoje najnowsze wydawnictwo „Sha
 ped By Fire” (Nuclear Blast Records). As I Lay Dying ruszą w europejsk
 ą trasę koncertową wraz z Whitechapel\, Emmure oraz Une Misere! \n\nAs 
 I Lay Dying wystąpi kolejno 12 kwietnia 2020 roku w warszawskim klubie Pr
 ogresja oraz 13 kwietnia 2020 roku we wrocławskim A2.\n\nBilety na koncer
 ty będą dostępne w sprzedaży od 04.12\, od 10:00 na: https://sklep.kno
 ckoutprod.net (druki kolekcjonerskie)\n\n--\n\n[PL] Uwaga! ⚠ Kupując bi
 let od osób umieszczających oferty na nieautoryzowanych stronach (Viagog
 o\, Ticketswap\, Allegro\, OLX czy Facebook)\, ryzykujesz nabycie fałszyw
 ej wejściówki\, która uniemożliwia wejście na koncert. Prosimy o kupo
 wanie biletów wyłącznie w autoryzowanych punktach sprzedaży\, tj. skle
 p.knockoutprod.net oraz eventim.pl! \n\n[ENG] Attention! ⚠ Buying ticket
 s through unauthroized platforms (Viagogo\, Ticketswap\, etc.) is a risk o
 f buying false tickets which will not let You participate in our shows. Th
 e only authorised ticket stores are sklep.knockoutprod.net and eventim.pl.
 \n\n--\n\n🎵 AS I LAY DYING (USA) metalcore:\n\nKariera powstałej w 200
 0 roku kapeli rozwijała się wspaniale. Albumy z lat 2007-2012 zajmowały
  wysokie miejsca na Billboard Top 200\, "An Ocean Between Us" (2007\; 8)\,
  "The Powerless Rise" (2010\; 10) i "Awakened" (2012\; miejsce 11). As I L
 ay Dying otrzymali od MTV2 w 2007 roku nagrodę Ultimate Metal God\, a tak
 że trzykrotnie wyróżnienie "Artist Of The Year" podczas San Diego Music
  Awards (2005\, 2007\, 2008). Ukoronowaniem wspaniałej passy była nomina
 cja do Grammy w 2008 roku za utwór "Nothing Left. \n\nOd grudnia 2016 rok
 u\, historia AILD pisze się na nowo. Fani\, promotorzy koncertów\, przed
 stawiciele wytwórni Nuclear Blast wyciągnęli do zespołu pomocną dło
 ń\, a stosunku do wokalisty uczynili to Jordan Mancino (perkusja)\, Phil 
 Sgrosso (gitara)\, Nick Hipa (gitara) oraz Josh Gilbert (gitara basowa\, c
 zysty wokal). Po pracy w studiu i koncertach Amerykanie wydali album o wie
 le mówiącym tytule "Shaped By Fire" (wrzesień 2019). Pełne kluby na ca
 łym świecie oraz wysokie miejsca płyty na listach dowodzą\, że fani p
 otrzebują AILD i muzyki kapeli z San Diego. \n\nSprawdź\, jeśli lubisz:
  Killswitch Engage\, All That Remains\, Trivium\, Bleeding Through...\n\n
 ▶ https://www.asilaydying.com/\n▶ https://www.facebook.com/asilaydying
 /\n▶ https://www.youtube.com/watch?v=UnQUDQpnG3M\n\n🎵  EMMURE (USA) d
 eathcore\, metalcore\, groove metal:\n\nCharyzmatyczny frontman to ważna 
 postać każdej kapeli. Jeśli dodatkowo wzbudza kontrowersje\, a słowo "
 kompromis" nie istnieje w jego słowniku\, o grupie zapewne będzie głoś
 no. Tak stało się w przypadku pochodzącej z New Fairfield w stanie Conn
 ecticut\, a od lat rezydującego w Nowym Jorku deathcore'owego zespołu Em
 mure\, na którego czele stoi niezwykle barwna postać\, wokalista Frankie
  Palmeri. \n\n Zespół powstał w 2003 roku. Wtedy Frankie dojeżdżał j
 eszcze na próby z Nowego Jorku. Zawirowania personalne stały się nieod
 łączną częścią historii Emmure. Doszło nawet do tego\, że w 2015 r
 oku pożegnali się z Palmerim wszyscy koledzy\, jacy z nim w tamtym okres
 ie współpracowali. Pomimo licznych zmian w składzie kapela regularnie w
 ydawała płyty i koncertowała na całym świecie\, niejednokrotnie docie
 rając także do Polski. \n\nMuzycznie Emmure to deathcore\, metalcore\, a
 lternatywny metal\, a nawet elementy rapu. Frankie nie ukrywa\, że jego i
 dolami są Fred Durst i Jonathan Davis\, zaś inspiracją dla tekstów uni
 wersum Marvela\, filozofia i religia. Najlepiej kapela radziła sobie w la
 tach 2012-14\, kiedy ukazywały się płyty "Slave To The Game" i "Eternal
  Enemies"\, które znalazły się w pierwszej 60. Top 200 "Billboardu". \n
 \nSprawdź\, jeśli lubisz: Caliban\, We Came As Romans\, Sworn In…\n\n
 ▶ https://www.emmurecult.com/\n▶ https://www.facebook.com/emmure/\n▶
  https://www.youtube.com/watch?v=LdEEwRN_YFk\n\n🎵 WHITECHAPEL (USA) dea
 thcore:\n\nDeathcore'owa formacja Whitechapel powstała w 2006 roku w Knox
 ville w stanie Tennessee\, a nazwę zaczerpnęła od położonej o kilka t
 ysięcy kilometrów dalej londyńskiej dzielnicy\, w której krwawych żni
 w dokonywał w XIX wieku Kuba Rozpruwacz. Co godne podkreślenia\, kapela 
 tylko w początkowym okresie delikatnie zmieniała skład\, a od roku 2007
  jej trzon tworzą: basista Gabe Crisp\, gitarzysta Alex Wade\, drugi gita
 rzysta Ben Savage\, wokalista Phil Bozeman oraz gitarzysta Zach Householde
 r. Perkusista Ben Harclerode odszedł w 2017 roku\, a bębny na pochodząc
 y z 2019 roku album "The Valley" nagrał Navene Koperweis (eks-Animals As 
 Leaders\, eks-Animosity). \n\nTrzy gitary w składzie Whitechapel definiuj
 ą brzmienie i styl kapeli. Podstawą muzyki Amerykanów są potężne rif
 fy\, które atakują narządy słuchu z ogromną intensywnością. Takie p
 odejście zachwyciło włodarzy Metal Blade Records\, dla której zespół
  nagrywa już od 2007 roku. Raczej nikt na współpracę nie narzeka\, a m
 iała ona kilka wspaniałych momentów\, by wymienić tylko 10 miejsce na 
 "Billboardzie" albumu "Our Endless War" z 2014 roku. Oczywiście jak każd
 y szanujący się artysta Whitechapel stara się dodawać do swojej muzyki
 \, tekstów\, brzmienia\, oprawy wizualnej nowe\, czasami zaskakujące ele
 menty. Na wspomnianej płycie "The Valley" są to wątki autobiograficzne\
 , nawiązujące do Hardin Valley\, doliny\, niedaleko której dorastał i 
 wiele złego zaznał Phil Bozeman. Nic dziwnego\, że często goszczą na 
 albumie mrok i melancholia. Ale też i totalna wściekłość. \n\nSprawd
 ź\, jeśli lubisz: Carnifex\, Thy Art Is Murder\, Despised Icon…\n\n▶
  https://www.whitechapelband.com/\n▶ https://www.facebook.com/whitechape
 lband/\n▶ https://www.youtube.com/watch?v=Bx4157TlEBE\n\n🎵 UNE MISERE
  (Islandia) deathcore\, post hardcore:\n\nIslandia kojarzy nam się albo z
  Björk\, albo z wysokiej klasy alternatywną muzyką\, albo z ekstremalny
 m metalem. W tej trzeciej kategorii znajdziemy powstały w 2016 roku w Rey
 kjavíku zespół Une Misère\, który dostarcza światu dźwięki deathco
 re'owe i zahaczające o post hardcore. Hard core jest zresztą ważny w hi
 storii kapeli\, bo jej członkowie wcześniej spełniali się właśnie w 
 zespołach grających taką muzykę. \n\nDla wielu sama Islandia stanowi i
 nspirujące miejsce. Z jej wietrznością\, wcześniej zapadającą ciemno
 ścią\, chłodem\, ale i niezapomnianymi\, oszałamiająco pięknymi kraj
 obrazami. Muzycy Une Misère nie są wyjątkami. Jeśli połączyć wpływ
  natury z dźwiękami krążącymi wokół deathcore'a\, post hardcore'a\,
  post metalu\, shoegaze'u oraz dźwięków bliskich temu\, co tworzy Tool\
 , otrzymamy muzyczne CV Islandczyków.\n\nChoć Une Misère nie ma długie
 go stażu\, może się pochwalić zwycięstwem w islandzkim konkursie Wack
 en Metal Battle w 2017 roku oraz debiutanckim pełnowymiarowym wydawnictwe
 m „Sermon” z 2019 roku (Nuclear Blast Records). W 2018 roku kapela zag
 rała także na prestiżowym festiwalu Roadburn w Holandii\, co stanowi wi
 elkie wyróżnienie dla każdego twórcy\, który porusza się poza mainst
 reamem. \n\nSprawdź\, jeśli lubisz: Wolfbrigade\, Converge\, Amenra…\n
 \n▶ https://www.unemisere.com/\n▶ https://www.facebook.com/UneMisere/\
 n▶ https://www.youtube.com/watch?v=5Ox7sCuQftY\n\n\nZagrają:\nAS I LAY 
 DYING (USA) metalcore\n+\nEmmure (USA) deathcore\, metalcore\, groove meta
 l\nWhitechapel (USA) deathcore\nUne Misere (Islandia) deathcore\, post har
 dcore\n\nKiedy: 13 kwietnia (poniedziałek) 2020\nGdzie: Wrocław @ A2\, u
 l. Góralska 5\nBilety: 110 zł - przedsprzedaż\, 130 zł – w dniu konc
 ertu\nOrganizator: Knock Out Productions\n\nBilety na koncerty dostępne b
 ędą w sprzedaży od 04.12\, od godz.: 10:00 na:\n🎟 https://sklep.knoc
 koutprod.net (druki kolekcjonerskie)\n\n\nZaprasza\nKnock Out Productions	
 \nhttp://www.knockoutprod.net\nhttps://www.facebook.com/productions.knock.
 out\nhttps://www.instagram.com/knockoutprod
ATTACH;FMTTYPE=image/jpeg:https://night4u.pl/wp-content/uploads/2020/03/10
 9819_image_86871772_2930754516947296_6076809898371317760_o.jpg
CATEGORIES:dolnośląskie
LOCATION:A2 - Centrum Koncertowe\, Góralska 5\, Wroclaw\, 53-610\, Poland
GEO:51.108613;17.001703
X-APPLE-STRUCTURED-LOCATION;VALUE=URI;X-ADDRESS=Góralska 5\, Wroclaw\, 53-
 610\, Poland;X-APPLE-RADIUS=100;X-TITLE=A2 - Centrum Koncertowe:geo:51.108
 613,17.001703
END:VEVENT
BEGIN:VTIMEZONE
TZID:Europe/Warsaw
X-LIC-LOCATION:Europe/Warsaw
BEGIN:DAYLIGHT
DTSTART:20200329T030000
TZOFFSETFROM:+0100
TZOFFSETTO:+0200
TZNAME:CEST
END:DAYLIGHT
END:VTIMEZONE
END:VCALENDAR