BEGIN:VCALENDAR
VERSION:2.0
PRODID:-//wp-events-plugin.com//7.2.3.1//EN
TZID:Europe/Warsaw
X-WR-TIMEZONE:Europe/Warsaw
BEGIN:VEVENT
UID:35155@night4u.pl
DTSTART;TZID=Europe/Warsaw:20200304T190000
DTEND;TZID=Europe/Warsaw:20200304T230000
DTSTAMP:20200304T173743Z
URL:https://night4u.pl/wydarzenia/ash-official-event-hydrozagadka-4-03-202
 0/
SUMMARY:Ash Official Event\, Hydrozagadka\, 4.03.2020
DESCRIPTION:Ash\n4.03.2020 – Warszawa\, Hydrozagadka\n\nSupport: Social A
 nimals\n\nSprzedaż generalna biletów rozpocznie się 8 listopada o godzi
 nie 10:00 na LiveNation.pl i Ticketmaster.pl.\nPrzedsprzedaż Citi Handlow
 y rozpocznie się 6 listopada o godzinie 10:00 i potrwa do 8 listopada do 
 9:00.\nPrzedsprzedaż Ticketmaster wystartuje 7 listopada o godzinie 10:00
  i potrwa do 8 listopada do godziny 10:00.\n\nZespół właśnie zapowiedz
 iał swój najnowszy album „Teenage Wildlife: 25 Years Of Ash”\, któr
 y ukaże się 14 lutego 2020.\n\n„Teenage Wildlife” to przekrojowy alb
 um Ash – od ich debiutu z „Trailer” w 1994 roku\, poprzez takie pły
 ty jak „1977” czy „Nu-clear Sounds” do ostatniej w ich dorobku „
 Islands”. „Teenage Wildlife” zawiera także limitowany zestaw z trze
 ma płytami CD\, składający się z 19 utworów\, w tym niesamowitą wers
 ję „Everybody's Happy Nowadays” zespołu The Buzzcocks (z udziałem C
 hrisa Martina Coldplaya) czy wieczne „Teenage Kicks”.
ATTACH;FMTTYPE=image/jpeg:https://night4u.pl/wp-content/uploads/2019/11/92
 585_image_74495417_10157209080632631_6913086330649968640_n.jpg
CATEGORIES:mazowieckie
LOCATION:Klub Hydrozagadka\, 11 listopada 22\, 03-436 Warszawa\, Poland\, P
 raga\, 03-436\, Poland
GEO:52.259283;21.036925
X-APPLE-STRUCTURED-LOCATION;VALUE=URI;X-ADDRESS=11 listopada 22\, 03-436 Wa
 rszawa\, Poland\, Praga\, 03-436\, Poland;X-APPLE-RADIUS=100;X-TITLE=Klub 
 Hydrozagadka:geo:52.259283,21.036925
END:VEVENT
BEGIN:VTIMEZONE
TZID:Europe/Warsaw
X-LIC-LOCATION:Europe/Warsaw
BEGIN:STANDARD
DTSTART:20191027T020000
TZOFFSETFROM:+0200
TZOFFSETTO:+0100
TZNAME:CET
END:STANDARD
END:VTIMEZONE
END:VCALENDAR