BEGIN:VCALENDAR
VERSION:2.0
PRODID:-//wp-events-plugin.com//7.2.3.1//EN
TZID:Europe/Warsaw
X-WR-TIMEZONE:Europe/Warsaw
BEGIN:VEVENT
UID:33514@night4u.pl
DTSTART;TZID=Europe/Warsaw:20191107T221300
DTEND;TZID=Europe/Warsaw:20191108T050000
DTSTAMP:20191107T184207Z
URL:https://night4u.pl/wydarzenia/at-gatsbys-otrzesiny-wpsych-mismap-mim/
SUMMARY:At Gatsby's / Otrzęsiny WPsych\, MISMaP &amp\; MIM
DESCRIPTION:--- Wersja polska ---\n\n„Gdy byłem młodszy i wrażliwszy\,
  ojciec mój dał mi pewną radę\, nad którą do dziś często się zast
 anawiam. - Ile razy masz ochotę kogoś krytykować - powiedział - przypo
 mnij sobie\, że nie wszyscy ludzie na tym świecie mieli takie możliwoś
 ci jak ty”. Dlatego chwytaj perły\, pióra\, cekiny\, frędzle\, kapelu
 sze i szelki – czeka Cię wieczór zupełnie niezapomniany – pełen br
 okatowych ozdób\, przepychu i wygładzonych fryzur. Będzie to bal przepe
 łniony gracją i beztroską. Upojeniu nie będzie końca. Wszech-obezwła
 dniająca sielanka napełni wasze spragnione dusze euforią. Czy dane będ
 zie wam doświadczyć zaszczytu jakim jest poznanie samego Wielkiego Gatsb
 y'ego? Nie dla was oh słodkie\, niepokorne duszyczki takie uciechy i rado
 ści! Ale byście mogli zaznać jego wielkości\, dostajecie prezent – z
 aproszenie na bankiet jakiego świat jeszcze nie widział.\n\n„At Gatsby
 's” w ROOM13 na Mazowieckiej 13 – tej nocy nie ważmy się zapomnieć!
 \n\nW trakcie imprezy będziecie mogli wziąć udział w wielu konkursach\
 , o których będziemy Was informować na bieżąco. \n\nWejściówki\, w 
 cenie 10 zł\, będą do odebrania od czwartku w:\n- pokoju nr 90 na Wydzi
 ale Psychologii\n- pokoju nr 3190 na Wydziale Matematyki\, Informatyki i M
 echaniki\n- pokoju nr 152 na Wydziale Geologii lub u wybranych osób na Ka
 mpusie Ochota (MISMaP).\nPiwo/shot/sotf w cenie wejściówki. Koszt w dniu
  imprezy - 20 zł. Zabierajcie znajomych nie tylko z naszych wydziałów. 
 \;) \n\nPromocje wieczoru: \n- 2x shot wódki - 12 zł (tylko do północy
 )\n- prosecco - 10 zł\n- piwo - 10 zł\n- cuba libre - 15 zł \n- drink w
 ieczoru "Fitzgerald" - 13 zł\n\nPamiętajcie\, że Wielki Gatsby może wa
 s nie wpuścić\, jeśli nie będziecie mieli odpowiedniego stroju. \n\nDr
 odzy Przyjaciele\, liczymy na Waszą obecność w tą czwartkową noc 7-eg
 o listopada o godzinie 22:13. Przybywajcie tłumnie!\n\n--- Wersja angiels
 ka ---\n\n„In my younger and more vulnerable years my father gave me som
 e advice that I’ve been turning over in my mind ever since. ‘Whenever 
 you feel like criticizing any one\,’ he told me\, ‘just remember that 
 all the people in this world haven’t had the advantages that you’ve ha
 d'.” Therefore\, put on your pearls\, feathers\, sequins\, tassels\, hat
 s and suspenders – an unforgettable night awaits you – full of sparkli
 ng glitter\, glamour and smooth looking hairstyles. It will be a ball fill
 ed with elegance and carefreeness. The excitement will have no bounds. The
  all-incapacitating idyll himself will fill your thirsty souls with euphor
 ia. Will you experience the honor of meeting the Great Gatsby himself? Per
 haps that would be too much for you my rebellious little souls! But so tha
 t you can experience his greatness\, you get a gift – an invitation to a
  banquet that the world has not yet seen before.\n\n“At Gatsby’s” in
  ROOM13 on Mazowiecka 13– Don’t dare to forget this night!\n\nDuring t
 he party you can take part in various contests.\n\nTickets will be waiting
  since Thursday in 90 in the Department of Psychology. Beer/shot/sotf in p
 rice of the ticket. 10 zł -before the party\, 20 zł - at the day of the 
 party. Take any friend you want - even he or she is not a student in our d
 epartment.\n\nSpecial prices: \n- 2x shot of vodka - 12 zł (only until mi
 dnight)\n- prosecco - 10 zł\n- beer - 10 zł\n- cuba libre - 15 zł \n- d
 rink of the night "Fitzgerald" - 13 zł\n\nBut remember\, Mr Gatsby may no
 t let you in if you don't have a proper costume.\n\nDear friends\, we are 
 counting on your presence on this Thursday night of November the 7th at 22
 :13. Come in crowds!
ATTACH;FMTTYPE=image/jpeg:https://night4u.pl/wp-content/uploads/2019/10/84
 210_image_72970416_3221499077877212_7741926258983829504_n.jpg
CATEGORIES:mazowieckie
LOCATION:ROOM 13 Club\, ul. Mazowiecka 13\, Warsaw\, 00-052\, Poland
GEO:52.237999;21.012896
X-APPLE-STRUCTURED-LOCATION;VALUE=URI;X-ADDRESS=ul. Mazowiecka 13\, Warsaw\
 , 00-052\, Poland;X-APPLE-RADIUS=100;X-TITLE=ROOM 13 Club:geo:52.237999,21
 .012896
END:VEVENT
BEGIN:VTIMEZONE
TZID:Europe/Warsaw
X-LIC-LOCATION:Europe/Warsaw
BEGIN:STANDARD
DTSTART:20191027T020000
TZOFFSETFROM:+0200
TZOFFSETTO:+0100
TZNAME:CET
END:STANDARD
END:VTIMEZONE
END:VCALENDAR