BEGIN:VCALENDAR
VERSION:2.0
PRODID:-//wp-events-plugin.com//7.2.3.1//EN
TZID:Europe/Warsaw
X-WR-TIMEZONE:Europe/Warsaw
BEGIN:VEVENT
UID:16144@night4u.pl
DTSTART;TZID=Europe/Warsaw:20190525T210000
DTEND;TZID=Europe/Warsaw:20190526T033000
DTSTAMP:20190514T213735Z
URL:https://night4u.pl/wydarzenia/audio-pleasure-adam-o-huba-25-05-sobota-
 peweks/
SUMMARY:Audio Pleasure / ADAM O & HUBA / 25.05 Sobota / Peweks
DESCRIPTION:25.05 SOBOTA / PEWEKS \nAUDIO PLEASURE to nowy projekt muzyczny
 \, który tworzą znany z Puławskich imprez duet Adam O & Huba. Chłopaki
  na swoim koncie mają niezliczoną ilość imprez. A tej nocy specjalnie 
 zagrają dla wszystkich miłośników house music w Peweksie! Audio Pleasu
 re to wysokogatunkowa mieszanka housowych brzmień! Przyjdź i przekonaj s
 ię na własnej skórze!\n\nFalujący parkiet porwie do tańca zarówno wi
 elbicieli zmysłowych wokali\, jak i fanów wyrazistego i energicznego bea
 tu. Gorącą atmosferę imprezy podkręci płynący z głośników bas\, k
 tóremu ciężko będzie się oprzeć\, a jedynym chłodnym punktem progra
 mu okażą się kolorowe drinki czekające w barze.\n\nDJ's: ADAM O & HUBA
 \nSTART: 21:00\nKIEDY?: SOBOTA 25.05
ATTACH;FMTTYPE=image/jpeg:https://night4u.pl/wp-content/uploads/2019/05/39
 567_image_60199814_2416165408405267_4022968988534308864_n.jpg
CATEGORIES:lubelskie
LOCATION:Peweks Art &amp\; Music\, Centralna 1\, Puławy\, 24-100\, Poland
GEO:51.417498;21.967772
X-APPLE-STRUCTURED-LOCATION;VALUE=URI;X-ADDRESS=Centralna 1\, Puławy\, 24-
 100\, Poland;X-APPLE-RADIUS=100;X-TITLE=Peweks Art & Music:geo:51.417498,2
 1.967772
END:VEVENT
BEGIN:VTIMEZONE
TZID:Europe/Warsaw
X-LIC-LOCATION:Europe/Warsaw
BEGIN:DAYLIGHT
DTSTART:20190331T030000
TZOFFSETFROM:+0100
TZOFFSETTO:+0200
TZNAME:CEST
END:DAYLIGHT
END:VTIMEZONE
END:VCALENDAR