BEGIN:VCALENDAR
VERSION:2.0
PRODID:-//wp-events-plugin.com//7.2.3.1//EN
TZID:Europe/Warsaw
X-WR-TIMEZONE:Europe/Warsaw
BEGIN:VEVENT
UID:4988@night4u.pl
DTSTART;TZID=Europe/Warsaw:20190126T210000
DTEND;TZID=Europe/Warsaw:20190127T040000
DTSTAMP:20190124T163121Z
URL:https://night4u.pl/wydarzenia/avicii-%e2%97%a2-%e2%97%a4-tribute-night
 -we-wroclawiu-26-01-one-love/
SUMMARY:AVICII ◢ ◤ Tribute Night we Wrocławiu / 26.01 / One Love/
DESCRIPTION:***NOWE WYDARZENIE NA FB Z PRZYCZYN NIEZALEŻNYCH OD ORGANIZATO
 RÓW!***\n\nAVICII Tribute Night we wrocławskim One Love Wrocław już w 
 sobotę 26 stycznia.\nBędzie to wyjątkowa noc ku czci jednego z najbardz
 iej wpływowych artystów EDM na świecie!\n\nNa imprezie usłyszycie najw
 iększe przeboje AVICII'ego: "Levels"\, "Seek Bromance"\, "Waiting For Lov
 e"\, "My Feelings For You"\, "Wake Me Up" i wiele wiele innych oraz szlagi
 ery Edm\, Electro House\, Deep House i 4x4.\n\nTego nie można przegapić!
 \nStart 21:00\nBilety do 22:00 tylko 10zł! Później 15/20.\n\nWsparcie:\
 nAVICII Tribute Night\nAvicii Poland\n\nWe Love You ◢ ◤ ❤️
ATTACH;FMTTYPE=image/jpeg:https://night4u.pl/wp-content/uploads/2019/01/15
 814_image_50686016_533950633786156_5063163054913486848_n.jpg
CATEGORIES:dolnośląskie
LOCATION:One Love Wrocław\, Ofiar Oświęcimskich 36\, Wroclaw\, 50-059\, 
 Poland
GEO:51.108;17.03431
X-APPLE-STRUCTURED-LOCATION;VALUE=URI;X-ADDRESS=Ofiar Oświęcimskich 36\, 
 Wroclaw\, 50-059\, Poland;X-APPLE-RADIUS=100;X-TITLE=One Love Wrocław:geo
 :51.108,17.03431
END:VEVENT
BEGIN:VTIMEZONE
TZID:Europe/Warsaw
X-LIC-LOCATION:Europe/Warsaw
BEGIN:STANDARD
DTSTART:20181028T020000
TZOFFSETFROM:+0200
TZOFFSETTO:+0100
TZNAME:CET
END:STANDARD
END:VTIMEZONE
END:VCALENDAR