BEGIN:VCALENDAR
VERSION:2.0
PRODID:-//wp-events-plugin.com//7.2.3.1//EN
TZID:Europe/Warsaw
X-WR-TIMEZONE:Europe/Warsaw
BEGIN:VEVENT
UID:26894@night4u.pl
DTSTART;TZID=Europe/Warsaw:20190914T210000
DTEND;TZID=Europe/Warsaw:20190915T040000
DTSTAMP:20190907T180126Z
URL:https://night4u.pl/wydarzenia/b-day-party-marc-van-linden-14-09/
SUMMARY:B-DAY Party - Marc Van Linden | 14.09
DESCRIPTION:??B-DAY ??MARC VAN LINDEN??\n\n„I Like It” ♥️☀️ Koc
 hani! 14 września zapraszamy urodzinowe party MARC-a VAN LINDEN-a Niemiec
 ki DJ i producent wszystkim bardzo dobrze znany wybrał właśnie nasz klu
 b jako jedyny aby razem z całą EX rodzinką celebrować swoje URODZINY ?
 ??\n\nTo impreza jedna na milion! To jedyne i niepowtarzalna wydarzenie ja
 kie zapowiedział artysta! ??\n\n14 września w sobotę\, bądź razem z n
 ami aby wspólnie świętować to wydarzenie?? \n\nRezerwujcie termin!\nZw
 ołujcie ekipę!\nI wszyscy\, bez wyjątku spotykamy się na miejscu ???\n
 \nMARC VAN LINDEN\nFabryka hitów \;\n\n„I Like It”\nhttps://m.youtube
 .com/watch?v=mGFMTDls6a8\n\n„Another World”\nhttps://m.youtube.com/wat
 ch?v=OOSNt646pYQ&t=242s\n\n„Am 2 pm”\nhttps://m.youtube.com/watch?v=qD
 2QiWnCR0E\n\n„Summerbreeze”\nhttps://m.youtube.com/watch?v=2AyJVb4bHD8
 \n\n„Gota Let You Go”\nhttps://m.youtube.com/watch?v=jWURWI5xQk0\n\n
 „Sunrise 2004”\nhttps://m.youtube.com/watch?v=2kpm-rnAoE0\n\n\nNa wszy
 stkich pokładach przez całą noc\, pełen skład EX rezydentury ?????\n\
 nWOOKIE | LOW DEPTH | BOSSY | ESTREND\n\n———————————
 ————————\n\nREZERWACJE\;\n☎️ Marta - 663 888 777 (po g
 odz. 15:00)\n\n?START: 21.00
ATTACH;FMTTYPE=image/jpeg:https://night4u.pl/wp-content/uploads/2019/09/62
 695_image_69785080_1338668046297204_4077628730913062912_o.jpg
CATEGORIES:wielkopolskie
LOCATION:EX club\, EX club\, 
X-APPLE-STRUCTURED-LOCATION;VALUE=URI;X-ADDRESS=EX club\, ;X-APPLE-RADIUS=1
 00;X-TITLE=EX club:geo:0,0
END:VEVENT
BEGIN:VTIMEZONE
TZID:Europe/Warsaw
X-LIC-LOCATION:Europe/Warsaw
BEGIN:DAYLIGHT
DTSTART:20190331T030000
TZOFFSETFROM:+0100
TZOFFSETTO:+0200
TZNAME:CEST
END:DAYLIGHT
END:VTIMEZONE
END:VCALENDAR