BEGIN:VCALENDAR
VERSION:2.0
PRODID:-//wp-events-plugin.com//7.2.3.1//EN
TZID:Europe/Warsaw
X-WR-TIMEZONE:Europe/Warsaw
BEGIN:VEVENT
UID:18154@night4u.pl
DTSTART;TZID=Europe/Warsaw:20190607T220000
DTEND;TZID=Europe/Warsaw:20190608T050000
DTSTAMP:20190603T203556Z
URL:https://night4u.pl/wydarzenia/b-l-a-c-k-o-u-t-karova-music-club-31-05-
 2/
SUMMARY:B L A C K O U T / Karova Music Club / 31.05
DESCRIPTION:?    —RnB—   —Hip-hop—   —Trap—   ?\n\nW ten piąte
 k kolejny raz przenosimy się do świata DJ NELOV ? START 22:00 ?\n\nBilet
 y:\n- WEJŚCIE FREE (do 23:00)\n- 20 PLN + FREE WELCOME DRINK (po 23:00)\n
 \nul. Karowa 31 Warszawa\n? Rezerwacje: 690 886 090 lub napisz do nas!
ATTACH;FMTTYPE=image/jpeg:https://night4u.pl/wp-content/uploads/2019/06/43
 930_image_61926660_913158842369468_6321962057486827520_o.jpg
CATEGORIES:mazowieckie
END:VEVENT
BEGIN:VTIMEZONE
TZID:Europe/Warsaw
X-LIC-LOCATION:Europe/Warsaw
BEGIN:DAYLIGHT
DTSTART:20190331T030000
TZOFFSETFROM:+0100
TZOFFSETTO:+0200
TZNAME:CEST
END:DAYLIGHT
END:VTIMEZONE
END:VCALENDAR