BEGIN:VCALENDAR
VERSION:2.0
PRODID:-//wp-events-plugin.com//7.2.3.1//EN
TZID:Europe/Warsaw
X-WR-TIMEZONE:Europe/Warsaw
BEGIN:VEVENT
UID:49022@night4u.pl
DTSTART;TZID=Europe/Warsaw:20200307T220000
DTEND;TZID=Europe/Warsaw:20200308T050000
DTSTAMP:20200331T140408Z
URL:https://night4u.pl/wydarzenia/babska-prywatka-i-dzien-kobiet-i-gordons
 -premium-pink-gin/
SUMMARY:Babska Prywatka I Dzień Kobiet I Gordon's Premium Pink Gin
DESCRIPTION:[ENGLISH below]\nDrogie Panie\, w niedziele Wasz dzień\, dlate
 go zapraszamy Was w tą sobotnią-niedzielną noc! ❤️\nAż do wybicia 
 północy\, serwujemy Wam pyszne drinki na bazie Gordon's Gin które wpraw
 ią Was w świetny nastrój 😊\nTego wieczoru\, wszystkie Panie wchodzą
  za darmo przez całą noc. Bez Was ta noc się nie odbędzie 😁\nZabier
 ajcie koleżanki i spotkajmy się na Babskiej Prywatce 💋\n\nStart: 22:0
 0\nSala główna: Disco &amp\; Pop &amp\; Dance 80s-10s \nMała sala: Lege
 ndarne Polskie Przeboje\nWstęp[21+]: Panie FREE całą noc\, Panowie 15 P
 LN\nESNcard: 10 PLN \nZaproszenia &amp\; Karty VIP: FREE całą noc\n\nVIP
  Room by Johnnie Walker 🎩\nhttps://prywatkaklub.pl/vip-room\n\nInfo &am
 p\; Rezerwacje online:\n☎️ 666 020 100\nhttps://prywatkaklub.pl/rezerw
 acje\n______________________________________________\nDear Ladies\, its yo
 ur day on Sunday. Come and party with us!\nUp to midnight\, we serve delic
 ious drinks with Gordon's Gin\, is there a better way to start Women's Day
 ? 😊\nAll Ladies\, entry for free whole night! That night wont be the sa
 me without you 😁\nTake your girlfriends with you and enjoy the night! 
 💋\n\nEntrance[21+]: Ladies FREE whole night\, Gents 15 PLN\nESNcard: 10
  PLN whole night\nStart: 10:00 pm\nMain stage: Disco &amp\; Pop &amp\; Dan
 ce 80s-10s\nSmall stage: Polish music
ATTACH;FMTTYPE=image/jpeg:https://night4u.pl/wp-content/uploads/2020/02/16
 8055_image_87023347_618539258929230_6513181152625295360_o.jpg
CATEGORIES:łódzkie
LOCATION:Prywatka\, Andrzeja Struga 8/10\, Łódź\, 90-426\, Poland
GEO:51.765118;19.455113
X-APPLE-STRUCTURED-LOCATION;VALUE=URI;X-ADDRESS=Andrzeja Struga 8/10\, Łó
 dź\, 90-426\, Poland;X-APPLE-RADIUS=100;X-TITLE=Prywatka:geo:51.765118,19
 .455113
END:VEVENT
BEGIN:VTIMEZONE
TZID:Europe/Warsaw
X-LIC-LOCATION:Europe/Warsaw
BEGIN:STANDARD
DTSTART:20191027T020000
TZOFFSETFROM:+0200
TZOFFSETTO:+0100
TZNAME:CET
END:STANDARD
END:VTIMEZONE
END:VCALENDAR