BEGIN:VCALENDAR
VERSION:2.0
PRODID:-//wp-events-plugin.com//7.2.3.1//EN
TZID:Europe/Warsaw
X-WR-TIMEZONE:Europe/Warsaw
BEGIN:VEVENT
UID:27508@night4u.pl
DTSTART;TZID=Europe/Warsaw:20191212T200000
DTEND;TZID=Europe/Warsaw:20191212T230000
DTSTAMP:20200401T080453Z
URL:https://night4u.pl/wydarzenia/babski-wieczor-pochwalone-oraz-same-suki
 -w-starym-klasztorze/
SUMMARY:Babski wieczór - Pochwalone oraz Same Suki - zmiana terminu!
DESCRIPTION:Babski wieczór - Pochwalone oraz Same Suki w Starym Klasztorze
 !\n\nKlub Stary Klasztor zaprasza na  koncert\, którego bohaterkami będ
 ą wyłącznie grające dziewczyny.\n12 grudnia na scenie Sali Gotyckiej s
 potkają się dwie intrygujące żeńskie formacje - Pochwalone oraz Same 
 Suki!\nBędzie folkowo i czadowo - warto być!\n\nPochwalone -  eklektyczn
 y radykalny fem-power-jazzy-punk (Kraków/ Sejny/ Warszawa) \nGrają w ter
 cecie: bas\, perkusja i wokal. Dotychczas wykorzystywały teksty funkcjonu
 jące w tradycji ludowej i poezję tworzących współcześnie poetek pols
 kich\, a teraz sięgają również do poezji obcojęzycznej. Nieustannie o
  tym\, co kobiet dotyczy i co je dotyka. Wspólnota doświadczeń\, bunt p
 rzez pokolenia\, moce\, niemoce\, zabawa\, smutek i gniew. Nowe sensy na p
 rzecięciach. Różnorodnie muzycznie: czadowo i lirycznie\, szybko i tran
 sowo\, wrzaskliwie i melodyjnie. Miks bezkompromisowego\,  surowego punka 
 i  transowego bitu. \n"Sięgamy po wiersze współczesnych poetek\, zestaw
 iamy je z mało znanymi tekstami dawnych pieśni\, śpiewanych przez wiejs
 kie kobiety. Rozmontowujemy funkcjonujące w szerokim obiegu teksty tradyc
 yjne\, po to\, by je złożyć na nowo i nadać im nowe znaczenia. Niepoko
 rne słowa i emocje pulsują pod chropowatą warstwą muzyczną: wypadkow
 ą brzmienia sekcji basowo-perkusyjnej i głosu."\n\nSame Suki to kobieca 
 formacja folkowa\, grająca muzykę kobiet z miasta inspirowaną muzyką l
 udową. Muzykę kobiet nie bojących się sięgać do źródeł\, żeby ś
 piewać swoim głosem o tym\, co tu i teraz. Z chęci wyrażania siebie ta
 ką\, jaką się jest. Bez cenzury. Same Suki zadebiutowały albumem „Ni
 ewierne” w 2013 roku. W październiku 2018 ukazał się drugi studyjny a
 lbum zespołu zatytułowany „ACH\, MÓJ BORZE”. Punktem wyjścia dla j
 ego powstania były melodie i teksty ludowe - te zasłyszane na podwórku\
 , te nauczone w domu i te znalezione w książkach etnograficznych. Same S
 uki z poszukiwań w muzyce źródeł stworzyły płytę eklektyczną i zaa
 ngażowaną we wszystkie ważne dla zespołu sprawy - ekologię\, prawa ko
 biet\, miłość\, seks\, odnajdywanie siebie i swojego głosu. \nSkład z
 espołu:\nMagdalena Wieczorek – Duchewicz – wokal\, kazoo\, gitarra\nH
 elena Matuszewska – suka biłgorajska\, kaszgar\, głos z Puszczy i chó
 rki\nPatrycja Betley – cajon\, bodhran\, log drum\, baraban\, djembe\, i
 nstrumenty perkusyjne\, chórki\nKamila Borowiak (gościennie) – wiolonc
 zela\, chórki\n\n12.12.19 godz.20.00 Sala Gotycka w Starym Klasztorze\, u
 l. Purkyniego 1\nBabski wieczór\nPOCHWALONE\nSAME SUKI\nmiejsca stojące:
  35 zł – przedsprzedaż\, 40 zł – w dniu koncertu\nmiejsca siedzące
 : 50 zł – przedsprzedaż\, 60 zł – w dniu koncertu\n\nBilety dostęp
 ne w sieci salonów Empik i MediaMarkt w całej Polsce\noraz w serwisach: 
 www.staryklasztor.com.pl/bilety/\, www.biletin.pl\, www.biletyna.pl\, www.
 eventim.pl\, www.ebilet.pl\, \nrezerwacje: bilety@o2.pl\nUwaga\, w okresie
  wakacyjnym kasa biletowa w Starym Klasztorze jest nieczynna!
ATTACH;FMTTYPE=image/jpeg:https://night4u.pl/wp-content/uploads/2019/09/64
 034_image_69394316_2406268132821641_1639219679207620608_o.jpg
CATEGORIES:dolnośląskie
LOCATION:Stary Klasztor\, Purkyniego 1\, Wroclaw\, 50-155\, Poland
GEO:51.110198;17.039162
X-APPLE-STRUCTURED-LOCATION;VALUE=URI;X-ADDRESS=Purkyniego 1\, Wroclaw\, 50
 -155\, Poland;X-APPLE-RADIUS=100;X-TITLE=Stary Klasztor:geo:51.110198,17.0
 39162
END:VEVENT
BEGIN:VTIMEZONE
TZID:Europe/Warsaw
X-LIC-LOCATION:Europe/Warsaw
BEGIN:STANDARD
DTSTART:20191027T020000
TZOFFSETFROM:+0200
TZOFFSETTO:+0100
TZNAME:CET
END:STANDARD
END:VTIMEZONE
END:VCALENDAR