BEGIN:VCALENDAR
VERSION:2.0
PRODID:-//wp-events-plugin.com//7.2.3.1//EN
TZID:Europe/Warsaw
X-WR-TIMEZONE:Europe/Warsaw
BEGIN:VEVENT
UID:9202@night4u.pl
DTSTART;TZID=Europe/Warsaw:20190310T190000
DTEND;TZID=Europe/Warsaw:20190310T230000
DTSTAMP:20191011T065200Z
URL:https://night4u.pl/wydarzenia/baby-satan-records-i-label-showcase-i-10
 -03-i-czula-jest-noc/
SUMMARY:Baby Satan Records I label showcase I 10.03 I Czuła jest noc
DESCRIPTION:U n i c o r n & Golden Teeth Booking zapraszają na wypad do Be
 rlina na bilecie wrocławskiej komunikacji miejskiej - showcase artystów 
 labelu Baby Satan Records. \n\nBABY SATAN RECORDS – berliński label wyd
 ający artystów upiornych i uroczych\, hałaśliwych i przytulnych. W mar
 cu Baby Satan świętuje pierwszy rok swojego istnienia\, który zaowocowa
 ł dziewięcioma wydawnictwami\, powstałymi na przekroju wielu gatunków 
 – od eksperymentalnej elektroniki po garażowego punka.\n\nhttps://babys
 atanrecords.bandcamp.com/ \nhttps://www.instagram.com/baby_satan_records/ 
  \n\nCiccone [DE]\n// experimental / dark wave / ambient / shoegaze //\n\n
 Projekt Diego Delgado\, pochodzącego z Berlina grafika i operatora. Jego 
 występowi na żywo towarzyszy projekcja video z taśmy 16 mm. Diego zabie
 rze nas w na wpół improwizowaną podróż w głąb swoich muzycznych ins
 piracji. Po drodze usłyszymy elementy noise’u\, ambientu\, shoegaze’u
 \, motorycznych mantr i eksperymentalnego techno.\n\nhttps://octubretv.ban
 dcamp.com/album/eps \n\nSISSY JOHNNY [DE]\n// r o c k  / post-punk / count
 ry //\n\nSissy Johnny to tajemniczy\, solowy projekt współzałożycielki
  Baby Satan Records\, która w labelu odpowiada również za stronę wizua
 lną. Sissy Johnny zrodziła się z inspiracji filmami drogi\, kowbojskimi
  butami i przedziwnymi snami. Sissy Johnny to muzyczny odpowiednik pamięt
 nika\, pisanego przy dźwiękach post-punka\, w samochodzie mijającym rog
 atki miasta\, pędzącym w stronę falujących złotymi kłosami pól. \nh
 ttps://sissyjohnny.bandcamp.com/releases  \n\nDane Joe [DE]\n// witchpop /
  dark ambient / experimental // \n\nDane Joe tworzy klimatyczny i upiorny 
 pop\, inspirowany środkami transportu publicznego\, psychodelikami i podr
 óżami transportem publicznym po psychodelikach. W zeszłym roku Dane Joe
  wydała w Baby Satan Records swój debiutancki album „New Age”\, zapo
 czątkowując działalność labelu.\n\n \n\nSKY warm-up dj set\n\n??? ???
 ?\n??? ??ᶯ\n???? ?\n?ꭉ??? ℴ?\n\ngość specjalny:\n\nBang-utot [PL]\
 n// dup / industrial / trance //\n\nCiemne etniczne i plemienne rytmy poł
 ączone z ciężkimi dubami\, od których wieje syberyjskim chłodem. Impr
 owizowane surrealistyczne kolaże dźwiękowe wymieszane na dadaistyczną 
 modłę z zaskakującymi samplami. Powolne industrialne bity na tle gęsty
 ch\, transowych faktur. To wszystko jest próbą dźwiękowego oddania dzi
 wnych\, często niewyjaśnionych fenomenów ludzkich zachowań\, zwanych p
 rzez antropologów medycznych „zespołami uwarunkowanymi kulturowo”\, 
 które występują tylko i wyłącznie na danym obszarze geograficznym i w
  obrębie jednej\, określonej kultury. Tak najprościej można opisać id
 eę stojącą za Bang-utot – nowym muzycznym przedsięwzięciem Rafała 
 Jęczmyka\, znanego też z projektu Emma Zunz. \n\nhttps://soundcloud.com/
 bang-utot-pl\n\n\npatronat medialny\n \nTrzy szóstki // https://3szostki.
 pl/\nUndertone // https://undrtn.pl/
ATTACH;FMTTYPE=image/jpeg:https://night4u.pl/wp-content/uploads/2019/03/24
 952_image_52344234_2380330705534058_1833856554701422592_o.jpg
CATEGORIES:dolnośląskie
LOCATION:Czuła jest noc\, ulica Kolejowa 8\, Wroclaw\, 53-508\, Poland
GEO:51.10137;17.0232
X-APPLE-STRUCTURED-LOCATION;VALUE=URI;X-ADDRESS=ulica Kolejowa 8\, Wroclaw\
 , 53-508\, Poland;X-APPLE-RADIUS=100;X-TITLE=Czuła jest noc:geo:51.10137,
 17.0232
END:VEVENT
BEGIN:VTIMEZONE
TZID:Europe/Warsaw
X-LIC-LOCATION:Europe/Warsaw
BEGIN:STANDARD
DTSTART:20181028T020000
TZOFFSETFROM:+0200
TZOFFSETTO:+0100
TZNAME:CET
END:STANDARD
END:VTIMEZONE
END:VCALENDAR