BEGIN:VCALENDAR
VERSION:2.0
PRODID:-//wp-events-plugin.com//7.2.3.1//EN
TZID:Europe/Warsaw
X-WR-TIMEZONE:Europe/Warsaw
BEGIN:VEVENT
UID:21905@night4u.pl
DTSTART;TZID=Europe/Warsaw:20190712T200000
DTEND;TZID=Europe/Warsaw:20190712T233000
DTSTAMP:20190709T224356Z
URL:https://night4u.pl/wydarzenia/bachata-darmowa-lekcja-o-potancowka-x-pi
 atek-12-07/
SUMMARY:Bachata - darmowa lekcja o potańcówka x piątek 12.07
DESCRIPTION:Coraz chętniej bierzecie udział w darmowych lekcjach\, dlateg
 o też jeżeli:\n\n⚡️Nie lubisz luster❓\n⚡️Nie masz partnera/ki 
 do tańca❓ \n⚡️Nie chcesz się przebierać w dres❓ \n⚡️Potrzeb
 ujesz drinka na odwagę do tańca❓ \n⚡️Nie ma problemu❗️\n\nMamy
  na to rozwiązanie. Wpadaj do Wysokich Tonów??\n\n➡️Piątek 12.07.20
 19 \n➡️Start: 20.00\n➡️Wjazd: Free ?\n\nPrzyjdź zobacz\, posłuch
 aj\, i spróbuj DARMOWEJ prostej lekcji BACHATY SENSUAL dla wszystkich ??\
 n\nPrzyjdziesz sam❓Nie ma problemu\, gwarantujemy że na lekcji zatańcz
 ysz z wieloma osobami\, poznasz ciekawych ludzi którzy tez chcą spróbow
 ać tego tańca ??\n\nSpróbuj najbardziej rozwojowego i popularnego tańc
 a w całej EUROPIE?
ATTACH;FMTTYPE=image/jpeg:https://night4u.pl/wp-content/uploads/2019/07/51
 904_image_66220495_2405652643044983_2437430933033320448_o.jpg
CATEGORIES:podlaskie
LOCATION:Wysokie Tony\, Marii Skłodowskiej Curie 2\, Białystok\, 15-097\,
  Poland
GEO:53.12982;23.15624
X-APPLE-STRUCTURED-LOCATION;VALUE=URI;X-ADDRESS=Marii Skłodowskiej Curie 2
 \, Białystok\, 15-097\, Poland;X-APPLE-RADIUS=100;X-TITLE=Wysokie Tony:ge
 o:53.12982,23.15624
END:VEVENT
BEGIN:VTIMEZONE
TZID:Europe/Warsaw
X-LIC-LOCATION:Europe/Warsaw
BEGIN:DAYLIGHT
DTSTART:20190331T030000
TZOFFSETFROM:+0100
TZOFFSETTO:+0200
TZNAME:CEST
END:DAYLIGHT
END:VTIMEZONE
END:VCALENDAR