BEGIN:VCALENDAR
VERSION:2.0
PRODID:-//wp-events-plugin.com//7.2.3.1//EN
TZID:Europe/Warsaw
X-WR-TIMEZONE:Europe/Warsaw
BEGIN:VEVENT
UID:27856@night4u.pl
DTSTART;TZID=Europe/Warsaw:20190921T220000
DTEND;TZID=Europe/Warsaw:20190923T050000
DTSTAMP:20190916T211614Z
URL:https://night4u.pl/wydarzenia/bachata-dominican-party-2-blf/
SUMMARY:Bachata Dominican Party 2 - BLF
DESCRIPTION:Zapraszamy was na imprezę w ramach BACHATA LOVERS FESTIVAL -Do
 minican Edition\n\nJeśli jesteś fanem dominikańskich rytmów latino to 
 nie możesz przegapić szansy na tak wspaniałą zabawę!!\n\n? W SKRÓCIE
  ?\n� DATA: 21.09.2019\n� START: 21:00\n? MIEJSCE: Sala Hell\, HAH Art
  & Music Club\n? ADRES: ul. Sądowa 9\, Katowice\n? MUZYKA : \nRadosław M
 ojsym DjBiondi\nLatin Social Dance - Dorota i Krzysiek\nJacek Perduta - Dj
  Blanco\n\nGramy : \n-Bachata\n-Merengue\n-Bolero Dominikańskie\n\nWJAZD:
  30 zł\nPARTY PASS: 40 zł\n\nBilety na imprezę można nabyć TYLKO w  R
 ecepcji CUBA LIBRE :)\nBilety będą dostępne: \nczwartek 19.09. od 17:00
 -22:00\npiątek 20.09. od 17:00-23:00\nsobota 21.09. od 11:00- 22:00
ATTACH;FMTTYPE=image/jpeg:https://night4u.pl/wp-content/uploads/2019/09/64
 753_image_71091365_1213703788800638_1885174026544873472_o.jpg
CATEGORIES:śląskie
LOCATION:HAH Katowice\, ul. Sądowa 9\, Katowice\, 40-078\, Poland
GEO:50.25845;19.0138
X-APPLE-STRUCTURED-LOCATION;VALUE=URI;X-ADDRESS=ul. Sądowa 9\, Katowice\, 
 40-078\, Poland;X-APPLE-RADIUS=100;X-TITLE=HAH Katowice:geo:50.25845,19.01
 38
END:VEVENT
BEGIN:VTIMEZONE
TZID:Europe/Warsaw
X-LIC-LOCATION:Europe/Warsaw
BEGIN:DAYLIGHT
DTSTART:20190331T030000
TZOFFSETFROM:+0100
TZOFFSETTO:+0200
TZNAME:CEST
END:DAYLIGHT
END:VTIMEZONE
END:VCALENDAR