BEGIN:VCALENDAR
VERSION:2.0
PRODID:-//wp-events-plugin.com//7.2.3.1//EN
TZID:Europe/Warsaw
X-WR-TIMEZONE:Europe/Warsaw
BEGIN:VEVENT
UID:35843@night4u.pl
DTSTART;TZID=Europe/Warsaw:20191122T210000
DTEND;TZID=Europe/Warsaw:20191123T040000
DTSTAMP:20191119T100154Z
URL:https://night4u.pl/wydarzenia/back-forth-5-0-oficjalny-before/
SUMMARY:Back &amp\; Forth 5.0 - oficjalny before
DESCRIPTION:Kiedy przybywacie do Torunia ? 🤔 W Arenie widzimy się w sob
 otę ale nasz Dj’s Team będzie obecny już od piątku w klubie Moon 
 😍 Macie ochotę zamienić z nimi kilka zdań ? Przybić 5 🖐 czy też
  po prostu tupnąć nogą 💃🕺🏻 ? \n\n22 listopada zapraszamy Was w
  takim razie na oficjalny Before Back &amp\; Forth 5.0 - największej impr
 ezy trance w Polsce!!\n\nPrzygotowaliśmy dla Was wiele  konkursów\, mas
 ę gadżetów oraz ogrom pozytywnej energii!!\n\n\nWSTĘP:\nstudenci - 10 
 PLN\nPozostali:\n15 PLN (przedsprzedaż) - link poniżej\n20 PLN (przy wej
 ściu)\n\nBilety dostępne on-line pod adresem :\nhttp://wlotki.pl/…/imp
 r…/260166/back-and-forth-pre-party.htm\n\nWstęp od 18 lat\, selekcja.
ATTACH;FMTTYPE=image/jpeg:https://night4u.pl/wp-content/uploads/2019/11/95
 347_image_75237516_517707965746973_8469930852107681792_o.jpg
CATEGORIES:kujawsko-pomorskie
LOCATION:Moon Club Toruń\, ul Wysoka 2\, Torun\, 87-100\, Poland
GEO:53.013273;18.609145
X-APPLE-STRUCTURED-LOCATION;VALUE=URI;X-ADDRESS=ul Wysoka 2\, Torun\, 87-10
 0\, Poland;X-APPLE-RADIUS=100;X-TITLE=Moon Club Toruń:geo:53.013273,18.60
 9145
END:VEVENT
BEGIN:VTIMEZONE
TZID:Europe/Warsaw
X-LIC-LOCATION:Europe/Warsaw
BEGIN:STANDARD
DTSTART:20191027T020000
TZOFFSETFROM:+0200
TZOFFSETTO:+0100
TZNAME:CET
END:STANDARD
END:VTIMEZONE
END:VCALENDAR