BEGIN:VCALENDAR
VERSION:2.0
PRODID:-//wp-events-plugin.com//7.2.3.1//EN
TZID:Europe/Warsaw
X-WR-TIMEZONE:Europe/Warsaw
BEGIN:VEVENT
UID:24454@night4u.pl
DTSTART;TZID=Europe/Warsaw:20190810T210000
DTEND;TZID=Europe/Warsaw:20190811T040000
DTSTAMP:20190809T215314Z
URL:https://night4u.pl/wydarzenia/back-to-terminal-open-air-scena-na-parki
 ngu-summer-edition/
SUMMARY:Back To Terminal / Open Air / Scena na Parkingu / Summer Edition
DESCRIPTION:Wielki powrót ... do tego co było a przede wszystkim do tego 
 co Wy stworzyliście.. BACK TO TERMINAL CLUB SZUBIN Vol.6!\nTej nocy wspom
 nienia powrócą ...razem z najlepszą muzyką. Ta edycja jest największ
 ą w historii! \nA dlaczego pytacie ? Dlatego\, że tym razem przenosimy s
 ię również na zewnątrz! \nNa specjalnie wybudowanej scenie na parkingu
  przed klubem zagrają dla Was największe gwiazdy muzyki klubowej!\n\n?Sc
 ena Open Air (Parking przed klubem Mono)\n?Scena House Of Sun Główna Sal
 a w Klubie\n?Scena Dance Piętro klubu\n\nTej wyjątkowej nocy zagrają dl
 a Was:\n\n?➖ Dj Vario \n?➖ Inox \n?➖ Dj W \n?➖ Dj Drum \n?➖ Dj I
 nsane \n?➖ Carrsten Hell \n?➖ Dymon \n?➖ David Biller \n?➖ Ardo \n
 ?➖ Lukasdeejay\n?➖ Tommek\n\nNie możecie przegapić okazji do spotkan
 ia wielkiej rodziny Terminal-a !\n\nBilety już w sprzedaży! Nie czekaj i
  kup taniej i omiń kolejki!\nBilety w cenie 20 zł kupicie klikając w po
 niższy link \nKup Bilety ====> http://bit.ly/2XLtWXj\n\n?Start: 21:00\n?W
 stęp: +17\n?Rezerwacje: 570 596 554\n\n??‍????‍??Konkurs??‍????‍?
 ?\nUWAGA UNIKATOWA NAGRODA\nDo wygrania:\n???KARTA VIP IMPREZ BACK TO TERM
 INAL ???\n??(Karta Vip BTT to karta która upoważnia do darmowego wejści
 a z osobą towarzyszącą osobnym wejściem (omijasz kolejkę) oraz bon do
  wykorzystania w barze o wartości 50 zł podczas imprez Back To Terminal.
  \n\nZaproś minimum 250 znajomych do wydarzenia a w komentarzu napisz ile
  osób zostało przez Ciebie zaproszonych! \n(UWAGA ilość zaproszonych o
 sób nie ma wpływu na losowanie\, osoby są wybierane losowo)
ATTACH;FMTTYPE=image/jpeg:https://night4u.pl/wp-content/uploads/2019/08/57
 557_image_66290496_1400502056754531_5596482999622303744_o.jpg
CATEGORIES:kujawsko-pomorskie
LOCATION:Mono Club\, Kcyńska 44\, Szubin\, 89-200\, Poland
GEO:53.005832;17.721215
X-APPLE-STRUCTURED-LOCATION;VALUE=URI;X-ADDRESS=Kcyńska 44\, Szubin\, 89-2
 00\, Poland;X-APPLE-RADIUS=100;X-TITLE=Mono Club:geo:53.005832,17.721215
END:VEVENT
BEGIN:VTIMEZONE
TZID:Europe/Warsaw
X-LIC-LOCATION:Europe/Warsaw
BEGIN:DAYLIGHT
DTSTART:20190331T030000
TZOFFSETFROM:+0100
TZOFFSETTO:+0200
TZNAME:CEST
END:DAYLIGHT
END:VTIMEZONE
END:VCALENDAR