BEGIN:VCALENDAR
VERSION:2.0
PRODID:-//wp-events-plugin.com//7.2.3.1//EN
TZID:Europe/Warsaw
X-WR-TIMEZONE:Europe/Warsaw
BEGIN:VEVENT
UID:9432@night4u.pl
DTSTART;TZID=Europe/Warsaw:20190322T220000
DTEND;TZID=Europe/Warsaw:20190323T040000
DTSTAMP:20190314T210301Z
URL:https://night4u.pl/wydarzenia/back-to-the-80s-hybrydy-4/
SUMMARY:Back To The 80's / Hybrydy
DESCRIPTION:W repertuarze imprezy pop-rock\, disco\, synth-pop. M.in.:\nA-H
 A\, ABBA\, ALPHAVILLE\, BELINDA CARLISLE\, BILLY JOEL\, BON JOVI\, BONNIE 
 TYLER\, DEPECHE MODE\, EURYTHMICS\, KIM WILDE\, KYLIE MINOGUE\, MADONNA\, 
 MICHAEL JACKSON\, MODERN TALKING\, QUEEN\, RICK ASTLEY\, SHAKIN STEVENS\, 
 ULTRAVOX i wiele innych.\n\nZapraszamy na muzyczną podróż w czasie do d
 ekady magicznych dźwięków :) Jeśli nużą Cię miałkie wytwory wspó
 łczesnego rynku muzycznego\, a lubisz pobawić się na klubowym parkiecie
 \, to z pewnością impreza dla Ciebie!\n\nGościnnie za sterami imprezy K
 ATZ !\n\n***\n\nHYBRYDY\, ul. Złota 7/9\, Warszawa\n\n22 marca\, piątek/
  Start: 22.00\n\nHappy Hour: 22-23 piwo 6pln\n\nBilety: \n10pln – lista 
 FB*\n15pln – pozostali \n\n* Aby zapewnić sobie wejściówkę w cenie 1
 0 pln wystarczy oznaczyć się na stronie wydarzenia jako osoba biorąca u
 dział. Listę FB zamykamy w dniu imprezy o godz.18.\n\n***\n\nZapraszają
 :\n\nRETRO LOVERS\nhttps://www.facebook.com/RetroLoversWarsaw/\n\nKATZ\nht
 tps://www.facebook.com/katzlodz/\n\n\nHYBRYDY\nhttps://hybrydy.pl/
ATTACH;FMTTYPE=image/jpeg:https://night4u.pl/wp-content/uploads/2019/03/25
 468_image_53453052_328169501163108_2770181686044917760_o.jpg
CATEGORIES:mazowieckie
LOCATION:Hybrydy\, Złota 7/9\, Warsaw\, 00-019\, Poland
GEO:52.23268;21.01157
X-APPLE-STRUCTURED-LOCATION;VALUE=URI;X-ADDRESS=Złota 7/9\, Warsaw\, 00-01
 9\, Poland;X-APPLE-RADIUS=100;X-TITLE=Hybrydy:geo:52.23268,21.01157
END:VEVENT
BEGIN:VTIMEZONE
TZID:Europe/Warsaw
X-LIC-LOCATION:Europe/Warsaw
BEGIN:STANDARD
DTSTART:20181028T020000
TZOFFSETFROM:+0200
TZOFFSETTO:+0100
TZNAME:CET
END:STANDARD
END:VTIMEZONE
END:VCALENDAR