BEGIN:VCALENDAR
VERSION:2.0
PRODID:-//wp-events-plugin.com//7.2.3.1//EN
TZID:Europe/Warsaw
X-WR-TIMEZONE:Europe/Warsaw
BEGIN:VEVENT
UID:26825@night4u.pl
DTSTART;TZID=Europe/Warsaw:20190921T220000
DTEND;TZID=Europe/Warsaw:20190922T040000
DTSTAMP:20190907T175820Z
URL:https://night4u.pl/wydarzenia/back-to-the-80s-hybrydy-6/
SUMMARY:Back To The 80's / Hybrydy
DESCRIPTION:W repertuarze imprezy pop-rock\, disco\, synth-pop. M.in.:\nA-H
 A\, ABBA\, ALPHAVILLE\, BELINDA CARLISLE\, BILLY JOEL\, BON JOVI\, BONNIE 
 TYLER\, DEPECHE MODE\, EURYTHMICS\, KENNY LOGGINS\, KIM WILDE\, MADONNA\, 
 MICHAEL JACKSON\, MODERN TALKING\, RICK ASTLEY\, QUEEN  i wiele innych.\n\
 nZapraszamy na muzyczną podróż w czasie do dekady magicznych dźwiękó
 w :) Jeśli nużą Cię miałkie wytwory współczesnego rynku muzycznego\
 , a lubisz pobawić się na klubowym parkiecie\, to z pewnością impreza 
 dla Ciebie!\n\n***\n\nHYBRYDY\, ul. Złota 7/9\, Warszawa\n\n21 września 
 sobota\n\nStart: 22.00\n\nHappy Hour: 22-23 piwo 6pln\n\nBilety: \n10pln 
 – lista FB*\n15pln – pozostali \n\n* Aby zapewnić sobie wejściówkę
  w cenie 10 pln wystarczy oznaczyć się na stronie wydarzenia jako osoba 
 biorąca udział. Listę FB zamykamy w dniu imprezy o godz.18.\n\n***\n\nZ
 apraszają:\n\nRETRO LOVERS\nhttps://www.facebook.com/RetroLoversWarsaw/\n
 \nHYBRYDY\nhttps://hybrydy.pl/
ATTACH;FMTTYPE=image/jpeg:https://night4u.pl/wp-content/uploads/2019/09/62
 557_image_69472104_413039986009392_3896222536534327296_o.jpg
CATEGORIES:mazowieckie
LOCATION:Hybrydy\, Złota 7/9\, Warsaw\, 00-019\, Poland
GEO:52.23268;21.01157
X-APPLE-STRUCTURED-LOCATION;VALUE=URI;X-ADDRESS=Złota 7/9\, Warsaw\, 00-01
 9\, Poland;X-APPLE-RADIUS=100;X-TITLE=Hybrydy:geo:52.23268,21.01157
END:VEVENT
BEGIN:VTIMEZONE
TZID:Europe/Warsaw
X-LIC-LOCATION:Europe/Warsaw
BEGIN:DAYLIGHT
DTSTART:20190331T030000
TZOFFSETFROM:+0100
TZOFFSETTO:+0200
TZNAME:CEST
END:DAYLIGHT
END:VTIMEZONE
END:VCALENDAR