BEGIN:VCALENDAR
VERSION:2.0
PRODID:-//wp-events-plugin.com//7.2.3.1//EN
TZID:Europe/Warsaw
X-WR-TIMEZONE:Europe/Warsaw
BEGIN:VEVENT
UID:2555@night4u.pl
DTSTART;TZID=Europe/Warsaw:20190112T220000
DTEND;TZID=Europe/Warsaw:20190113T040000
DTSTAMP:20190104T231932Z
URL:https://night4u.pl/wydarzenia/back-to-the-80s-hybrydy/
SUMMARY:Back to the 80's / Hybrydy
DESCRIPTION:W repertuarze imprezy POP-ROCK\, DISCO\, SYNTH-POP. M.in.:\nA-H
 A\, ABBA\, ALPHAVILLE\, BELINDA CARLISLE\, BILLY IDOL\, BILLY JOEL\, BON J
 OVI\, BONNIE TYLER\, DEPECHE MODE\, EURYTHMICS\, KENNY LOGGINS\, KIM WILDE
 \, KYLIE MINOGUE\, MADONNA\, MICHAEL JACKSON\, MODERN TALKING\, QUEEN\, PE
 T SHOP BOYS\, RICK ASTLEY\, ROXETTE\, SANDRA i wiele innych.\n\nZapraszamy
  na muzyczną podróż w czasie do dekady magicznych dźwięków :) Jeśli
  nużą Cię miałkie wytwory współczesnego rynku muzycznego\, a lubisz 
 pobawić się na klubowym parkiecie\, to z pewnością impreza dla Ciebie!
 \n\n***\n\nHYBRYDY\, ul. Złota 7/9\, Warszawa\n\n12 stycznia\, sobota\n\n
 Start: 22.00\n\nHappy Hour: 22-23 piwo 6pln\n\nBilety: \n10pln – lista F
 B*\n15pln – pozostali \n\n* Aby zapewnić sobie wejściówkę w cenie 10
  pln wystarczy oznaczyć się na stronie wydarzenia jako osoba biorąca ud
 ział. Listę FB zamykamy w dniu imprezy o godz.18.\n\n***\n\nZapraszają:
 \n\nRETRO LOVERS\nhttps://www.facebook.com/RetroLoversWarsaw/\n\nHYBRYDY\n
 https://hybrydy.pl/
ATTACH;FMTTYPE=image/jpeg:https://night4u.pl/wp-content/uploads/2019/01/92
 14_image_49196457_300435103936548_8909598631200292864_o.jpg
CATEGORIES:mazowieckie
LOCATION:Hybrydy\, Złota 7/9\, Warsaw\, 00-019\, Poland
GEO:52.23268;21.01157
X-APPLE-STRUCTURED-LOCATION;VALUE=URI;X-ADDRESS=Złota 7/9\, Warsaw\, 00-01
 9\, Poland;X-APPLE-RADIUS=100;X-TITLE=Hybrydy:geo:52.23268,21.01157
END:VEVENT
BEGIN:VTIMEZONE
TZID:Europe/Warsaw
X-LIC-LOCATION:Europe/Warsaw
BEGIN:STANDARD
DTSTART:20181028T020000
TZOFFSETFROM:+0200
TZOFFSETTO:+0100
TZNAME:CET
END:STANDARD
END:VTIMEZONE
END:VCALENDAR