BEGIN:VCALENDAR
VERSION:2.0
PRODID:-//wp-events-plugin.com//7.2.3.1//EN
TZID:Europe/Warsaw
X-WR-TIMEZONE:Europe/Warsaw
BEGIN:VEVENT
UID:17877@night4u.pl
DTSTART;TZID=Europe/Warsaw:20190614T220000
DTEND;TZID=Europe/Warsaw:20190615T040000
DTSTAMP:20190531T213857Z
URL:https://night4u.pl/wydarzenia/back-to-the-90s-hydrozagadka-2/
SUMMARY:Back To The 90's / Hydrozagadka
DESCRIPTION:W repertuarze imprezy wielobarwna mieszanka muzy pop\, rock\, d
 ance i rap. M.in.:\nACE OF BASE\, BLUR\, BLOODHOUND GANG\, BRITNEY SPEARS\
 , COOLIO\, DR ALBAN\, HADDAWAY\, LENNY KRAVITZ\, MC HAMMER\, MICHAEL JACKS
 ON\, NIRVANA\, OFFSPRING\, RED HOT CHILLI PEPPERS\, RICKY MARTIN\, SNAP\, 
 SPICE GIRLS\, WILL SMITH\, 2 PAC i wiele innych.\n\nSerdecznie zapraszamy 
 do Hydrozagadki na muzyczną podróż do lat 90-tych :) Jeśli nużą Cię
  miałkie wytwory współczesnego rynku muzycznego\, a lubisz pobawić si
 ę na klubowym parkiecie\, to z pewnością impreza dla Ciebie!\n\n***\n\n
 HYDROZAGADKA\, \nul. 11 Listopada 22\, Warszawa\n\n14.06\, piątek\n\nBile
 ty: \n0pln – lista fb do godz.23\n10pln – lista fb*\n15pln – pozosta
 li \n\n* Aby zapewnić sobie wejściówkę w cenie 10 pln (darmową do god
 z.23) wystarczy oznaczyć się na stronie wydarzenia jako osoba biorąca u
 dział. Listę FB zamykamy w dniu imprezy o godz.18.\n\n***\n\nZapraszają
 :\n\nRETRO LOVERS\nhttps://www.facebook.com/RetroLoversWarsaw/\n\nHYDROZAG
 ADKA\nhttps://www.facebook.com/klubhydrozagadka/
ATTACH;FMTTYPE=image/jpeg:https://night4u.pl/wp-content/uploads/2019/05/43
 368_image_61303951_362842884362436_5361072002427781120_o.jpg
CATEGORIES:mazowieckie
LOCATION:Remont: Reaktywacja Legendy\, ul. Waryńskiego 12a\, Warsaw\, 00-6
 31\, Poland
GEO:52.216877;21.016427
X-APPLE-STRUCTURED-LOCATION;VALUE=URI;X-ADDRESS=ul. Waryńskiego 12a\, Wars
 aw\, 00-631\, Poland;X-APPLE-RADIUS=100;X-TITLE=Remont: Reaktywacja Legend
 y:geo:52.216877,21.016427
END:VEVENT
BEGIN:VTIMEZONE
TZID:Europe/Warsaw
X-LIC-LOCATION:Europe/Warsaw
BEGIN:DAYLIGHT
DTSTART:20190331T030000
TZOFFSETFROM:+0100
TZOFFSETTO:+0200
TZNAME:CEST
END:DAYLIGHT
END:VTIMEZONE
END:VCALENDAR