BEGIN:VCALENDAR
VERSION:2.0
PRODID:-//wp-events-plugin.com//7.2.3.1//EN
TZID:Europe/Warsaw
X-WR-TIMEZONE:Europe/Warsaw
BEGIN:VEVENT
UID:27817@night4u.pl
DTSTART;TZID=Europe/Warsaw:20190928T220000
DTEND;TZID=Europe/Warsaw:20190929T040000
DTSTAMP:20190916T211137Z
URL:https://night4u.pl/wydarzenia/back-to-the-90s-hydrozagadka-3/
SUMMARY:Back To The 90's / Hydrozagadka
DESCRIPTION:W repertuarze imprezy mieszanka muzyki pop\, rock\, dance i rap
 . M.in.:\nACE OF BASE\, BACKSTREET BOYS\, BRITNEY SPEARS\, BOMFUNK MC’S\
 , COOLIO\, DR ALBAN\, HADDAWAY\, MC HAMMER\, MICHAEL JACKSON\, NIRVANA\, O
 FFSPRING\, RED HOT CHILLI PEPPERS\, RICKY MARTIN\, SNAP\, SPICE GIRLS i wi
 ele innych.\n\nSerdecznie zapraszamy do Hydrozagadki na muzyczną podróż
  do lat 90-tych :) Jeśli nużą Cię miałkie wytwory współczesnego ryn
 ku muzycznego\, a lubisz pobawić się na klubowym parkiecie\, to z pewno
 ścią impreza dla Ciebie!\n\n***\n\nHYDROZAGADKA\, \nul. 11 Listopada 22\
 , Warszawa\n\n28.09\, sobota\n\nBilety: \n0pln – lista fb do godz.23\n10
 pln – lista fb*\n15pln – pozostali \n\n* Aby zapewnić sobie wejśció
 wkę w cenie 10 pln (darmową do godz.23) wystarczy oznaczyć się na stro
 nie wydarzenia jako osoba biorąca udział. Listę FB zamykamy w dniu impr
 ezy o godz.18.\n\n***\n\nZapraszają:\n\nRETRO LOVERS\nhttps://www.faceboo
 k.com/RetroLoversWarsaw/\n\nHYDROZAGADKA\nhttps://www.facebook.com/klubhyd
 rozagadka/
ATTACH;FMTTYPE=image/jpeg:https://night4u.pl/wp-content/uploads/2019/09/64
 652_image_70156198_419666005346790_1362763281588027392_o.jpg
CATEGORIES:mazowieckie
LOCATION:Remont: Reaktywacja Legendy\, ul. Waryńskiego 12a\, Warsaw\, 00-6
 31\, Poland
GEO:52.216877;21.016427
X-APPLE-STRUCTURED-LOCATION;VALUE=URI;X-ADDRESS=ul. Waryńskiego 12a\, Wars
 aw\, 00-631\, Poland;X-APPLE-RADIUS=100;X-TITLE=Remont: Reaktywacja Legend
 y:geo:52.216877,21.016427
END:VEVENT
BEGIN:VTIMEZONE
TZID:Europe/Warsaw
X-LIC-LOCATION:Europe/Warsaw
BEGIN:DAYLIGHT
DTSTART:20190331T030000
TZOFFSETFROM:+0100
TZOFFSETTO:+0200
TZNAME:CEST
END:DAYLIGHT
END:VTIMEZONE
END:VCALENDAR