BEGIN:VCALENDAR
VERSION:2.0
PRODID:-//wp-events-plugin.com//7.2.3.1//EN
TZID:Europe/Warsaw
X-WR-TIMEZONE:Europe/Warsaw
BEGIN:VEVENT
UID:28425@night4u.pl
DTSTART;TZID=Europe/Warsaw:20191018T223000
DTEND;TZID=Europe/Warsaw:20191019T043000
DTSTAMP:20191018T110557Z
URL:https://night4u.pl/wydarzenia/back-to-the-future-party-i-18-10-i-lista
 -fb-free/
SUMMARY:Back To The Future Party I 18.10 I Lista fb free!
DESCRIPTION:Niszczycie nas na tych imprezach\, bo  nie zostawiacie na nas s
 uchej nitki ♡ :D. Sympatyczna Paula z KATZ (Depeche Mode Party\, Impreza
  dla smutnych ludzi\, New Wave Party\, BTTF\, Step by Step Party\, The Cur
 e Party itd.) i Jacek Lodi Piątkowski serdecznie zapraszają na kolejne t
 ańce do upadłego ♡.\n\nNa co dzień słuchasz innej muzyki niż 70/80/
 90? Doskonale\, bo oni też. Tym bardziej doskonale\, jeśli masz dystans 
 do siebie i po prostu wiesz\, że trzeba czasem potańczyć do Madonny\, E
 arth Wind &amp\; Fire\, Phila Collinsa\, po hity Yazoo\, New Order\, Maana
 mu i Black.\n\n♡♡♡\n\nBACK TO THE FUTURE ~ Salute to the 80s!\nstart
 : 22:30 \nwejście: Lista fb free I Pozostali: 10 pln\n\n\n&gt\;&gt\; 80s/
  90s/ rock/ rock’n’roll/ synth-pop/ new wave &lt\;&lt\;\n\n+++ \nAby w
 ejść za darmo\, należy kliknąć &quot\;wezmę udział&quot\;. Przypomi
 namy\, że lista fb free obowiązuje do północy i jest zamykana w dniu i
 mprezy o godz. 20:00!
ATTACH;FMTTYPE=image/jpeg:https://night4u.pl/wp-content/uploads/2019/09/65
 845_image_71023975_2604490296255741_5635281702654836736_n.jpg
CATEGORIES:mazowieckie
LOCATION:Remont: Reaktywacja Legendy\, ul. Waryńskiego 12a\, Warsaw\, 00-6
 31\, Poland
GEO:52.216877;21.016427
X-APPLE-STRUCTURED-LOCATION;VALUE=URI;X-ADDRESS=ul. Waryńskiego 12a\, Wars
 aw\, 00-631\, Poland;X-APPLE-RADIUS=100;X-TITLE=Remont: Reaktywacja Legend
 y:geo:52.216877,21.016427
END:VEVENT
BEGIN:VTIMEZONE
TZID:Europe/Warsaw
X-LIC-LOCATION:Europe/Warsaw
BEGIN:DAYLIGHT
DTSTART:20190331T030000
TZOFFSETFROM:+0100
TZOFFSETTO:+0200
TZNAME:CEST
END:DAYLIGHT
END:VTIMEZONE
END:VCALENDAR