BEGIN:VCALENDAR
VERSION:2.0
PRODID:-//wp-events-plugin.com//7.2.3.1//EN
TZID:Europe/Warsaw
X-WR-TIMEZONE:Europe/Warsaw
BEGIN:VEVENT
UID:6715@night4u.pl
DTSTART;TZID=Europe/Warsaw:20190221T220000
DTEND;TZID=Europe/Warsaw:20190222T060000
DTSTAMP:20190207T103633Z
URL:https://night4u.pl/wydarzenia/back-to-the-oldies-x-uczelnie-artystyczn
 e-x-am-x-asp-x-ast/
SUMMARY:Back To The Oldies x Uczelnie Artystyczne x AM x ASP x AST
DESCRIPTION:Back To The Oldies!\n\nTego wieczoru specjalnie dla Was w After
 beng Domówka razem z Samorządami Studentów: Akademii Muzycznej\, Akadem
 ii Sztuk Pięknych oraz Akademii Sztuk Teatralnych\, wracamy po klasyczne 
 brzmienia lat 80 & 90-tych. Z każdego gatunku znajdziecie coś dla siebie
 .\n\nA więc...\n\nDodaj się do wydarzenia i bądź na bieżąco!!!\n\n#P
 romocje\n\n➡Cuba Libre - 10 PLN\n➡Piwo - 6 PLN\n➡Szot Wódki - 4 PLN
 \n➡Soft - 5 PLN\n\n#Muzyka\n\nDJ Subkowski (Pop House\, Deep\, 80&90)\n\
 nDJ Tejp (R&B\, Funk\, Disco\, Pop)\n\n#Wstęp\n\nDarmowe wejście dla go
 ści z listą Facebook (przy okazaniu legitymacji studenckiej) lub z zapro
 szeniem.\n\n#Szczegóły\n\nGdzie?\n\nAfterbeng Domówka\, ul. Rynek Głó
 wny 28\n\nKiedy?\n\n21 Lutego (Czwartek)\n\nZapamiętaj tę datę i dodaj 
 się do wydarzenia!!!\n\n#Rezerwacje\n\n+48 534 954 462 lub afterbeng@gmai
 l.com\n\nKlub zastrzega sobie prawo do selekcji gości i może odmówić w
 stępu bez podania przyczyny. Wstęp tylko dla osób pełnoletnich
ATTACH;FMTTYPE=image/jpeg:https://night4u.pl/wp-content/uploads/2019/02/19
 640_image_51588539_2233665270178583_2940631066664239104_o.jpg
CATEGORIES:małopolskie
LOCATION:Afterbeng Domówka\, Rynek główny 28\, Kraków\, 31-009\, Poland
GEO:50.0617;19.93572
X-APPLE-STRUCTURED-LOCATION;VALUE=URI;X-ADDRESS=Rynek główny 28\, Kraków
 \, 31-009\, Poland;X-APPLE-RADIUS=100;X-TITLE=Afterbeng Domówka:geo:50.06
 17,19.93572
END:VEVENT
BEGIN:VTIMEZONE
TZID:Europe/Warsaw
X-LIC-LOCATION:Europe/Warsaw
BEGIN:STANDARD
DTSTART:20181028T020000
TZOFFSETFROM:+0200
TZOFFSETTO:+0100
TZNAME:CET
END:STANDARD
END:VTIMEZONE
END:VCALENDAR