BEGIN:VCALENDAR
VERSION:2.0
PRODID:-//wp-events-plugin.com//7.2.3.1//EN
TZID:Europe/Warsaw
X-WR-TIMEZONE:Europe/Warsaw
BEGIN:VEVENT
UID:2901@night4u.pl
DTSTART;TZID=Europe/Warsaw:20190112T220000
DTEND;TZID=Europe/Warsaw:20190113T010000
DTSTAMP:20190108T162459Z
URL:https://night4u.pl/wydarzenia/back-to-the-oldschool-with-boris-beloved
 /
SUMMARY:Back To The Oldschool with Boris Beloved
DESCRIPTION:W sobotę 12 stycznia czeka Was prawdziwa muzyczne eksplozja! Z
 apraszamy Was do Unique Club na wyjątkową imprezę "Back To The Oldschoo
 l"\, a rozpoczniemy ją w naprawdę grubym stylu. Nasi artyści zaserwują
  Wam prawdziwą muzyczną bombę - najlepsze sety w stylu Pop\,Dance\,Mas-
 hup\, RnB Vocal House! Wyjątkowo i specjalnie dla Was tej nocy zagra Bori
 s Beloved\nBędziemy na Was czekać już od 22:00\,\nBądźcie z nami i da
 jcie porwać się emocjom!
ATTACH;FMTTYPE=image/jpeg:https://night4u.pl/wp-content/uploads/2019/01/99
 42_image_50013049_2699986446686915_7288171352232558592_o.jpg
CATEGORIES:pomorskie
LOCATION:UNIQUE Club &amp\; Lounge Sopot\, Plac Zdrojowy 1\, Sopot\, 81-720
 \, Poland
GEO:54.445172;18.569209
X-APPLE-STRUCTURED-LOCATION;VALUE=URI;X-ADDRESS=Plac Zdrojowy 1\, Sopot\, 8
 1-720\, Poland;X-APPLE-RADIUS=100;X-TITLE=UNIQUE Club & Lounge Sopot:geo:5
 4.445172,18.569209
END:VEVENT
BEGIN:VTIMEZONE
TZID:Europe/Warsaw
X-LIC-LOCATION:Europe/Warsaw
BEGIN:STANDARD
DTSTART:20181028T020000
TZOFFSETFROM:+0200
TZOFFSETTO:+0100
TZNAME:CET
END:STANDARD
END:VTIMEZONE
END:VCALENDAR