BEGIN:VCALENDAR
VERSION:2.0
PRODID:-//wp-events-plugin.com//7.2.3.1//EN
TZID:Europe/Warsaw
X-WR-TIMEZONE:Europe/Warsaw
BEGIN:VEVENT
UID:39097@night4u.pl
DTSTART;TZID=Europe/Warsaw:20191220T160000
DTEND;TZID=Europe/Warsaw:20191221T030000
DTSTAMP:20191220T054953Z
URL:https://night4u.pl/wydarzenia/back-to-the-rock/
SUMMARY:Back to the Rock
DESCRIPTION:🕺Back to the ROCK Party...🤘\nimpreza skierowana do fanów
  muzyki Rockowej.\nTej nocy będziemy bawić się przy dźwiękach mocnych
  brzmień! Zatańczymy\, pokręcimy głową\, poszalejemy do dźwięków t
 akich wykonawców jak Guns N'Roses\,  Queen\, Ozzy Osborne\, AC/DC etc.-pr
 zy wszystkim do czego będziecie mieli ochotę się bawić. Dj'a zadba aby
  każdy znalazł coś dla siebie. \n\n1️⃣6️⃣:0️⃣0️⃣- otwie
 ramy dla was i zaczynamy be4 przed back to the rock🍹🍻🥃\n2️⃣2
 ️⃣:0️⃣0️⃣- startuje z najlepsza impreza w mieście 🔥🔥
 🔥🔥🔥
ATTACH;FMTTYPE=image/jpeg:https://night4u.pl/wp-content/uploads/2019/12/11
 4393_image_78563370_2779165618813299_4633352857125388288_n.jpg
CATEGORIES:zachodniopomorskie
LOCATION:Klub Studencki Pralnia\, Bohaterów Warszawy 75\, Szczecin\, 71-07
 0\, Poland
GEO:53.41969;14.53118
X-APPLE-STRUCTURED-LOCATION;VALUE=URI;X-ADDRESS=Bohaterów Warszawy 75\, Sz
 czecin\, 71-070\, Poland;X-APPLE-RADIUS=100;X-TITLE=Klub Studencki Pralnia
 :geo:53.41969,14.53118
END:VEVENT
BEGIN:VTIMEZONE
TZID:Europe/Warsaw
X-LIC-LOCATION:Europe/Warsaw
BEGIN:STANDARD
DTSTART:20191027T020000
TZOFFSETFROM:+0200
TZOFFSETTO:+0100
TZNAME:CET
END:STANDARD
END:VTIMEZONE
END:VCALENDAR