BEGIN:VCALENDAR
VERSION:2.0
PRODID:-//wp-events-plugin.com//7.2.3.1//EN
TZID:Europe/Warsaw
X-WR-TIMEZONE:Europe/Warsaw
BEGIN:VEVENT
UID:38864@night4u.pl
DTSTART;TZID=Europe/Warsaw:20191206T210000
DTEND;TZID=Europe/Warsaw:20191207T050000
DTSTAMP:20191205T131857Z
URL:https://night4u.pl/wydarzenia/bad-santa-06-12-panie-wstep-free/
SUMMARY:Bad Santa :: 06.12 // panie wstęp Free
DESCRIPTION:W najbliższy piątek odwiedzi nas niegrzeczny Mikołaj - przyj
 dź i zobacz jaki ma prezent dla Ciebie !!\n\nSpecjalnie dla Was promocje 
 na barze przez całą noc\n\n★ PROMOTIONS ★\n- 2 x wódka 0\,5 l + 2 x
  napój 1 l = 120 zł !! \n\n\nPanie wstęp FREE do 24:00\n\n\nTej nocy za
 grają :\n\n💿 DJ Nefretete\n\n\n\nSeats &amp\; tables &amp\; vip room /
 / rezerwacja miejsc :\nAneta\n📧 info@m7club.pl\n☎ +48 508 508 408
ATTACH;FMTTYPE=image/jpeg:https://night4u.pl/wp-content/uploads/2019/12/11
 1846_image_74216733_2636741756385881_4054313131579539456_o.jpg
CATEGORIES:podlaskie
LOCATION:M7 CLUB\, Białystok\, Poland
GEO:53.133448;23.156648
X-APPLE-STRUCTURED-LOCATION;VALUE=URI;X-ADDRESS=Białystok\, Poland;X-APPLE
 -RADIUS=100;X-TITLE=M7 CLUB:geo:53.133448,23.156648
END:VEVENT
BEGIN:VTIMEZONE
TZID:Europe/Warsaw
X-LIC-LOCATION:Europe/Warsaw
BEGIN:STANDARD
DTSTART:20191027T020000
TZOFFSETFROM:+0200
TZOFFSETTO:+0100
TZNAME:CET
END:STANDARD
END:VTIMEZONE
END:VCALENDAR