BEGIN:VCALENDAR
VERSION:2.0
PRODID:-//wp-events-plugin.com//7.2.3.1//EN
TZID:Europe/Warsaw
X-WR-TIMEZONE:Europe/Warsaw
BEGIN:VEVENT
UID:15305@night4u.pl
DTSTART;TZID=Europe/Warsaw:20190511T210000
DTEND;TZID=Europe/Warsaw:20190512T030000
DTSTAMP:20190509T095107Z
URL:https://night4u.pl/wydarzenia/bajla-bajla-bajlandooooo-11-05/
SUMMARY:Bajla Bajla Bajlandooooo - 11.05
DESCRIPTION:BAJLA BAJLA BAJLANDOOOOO - 11.05\n?????wszyscy do 22:00 wstęp 
 5zł?????\n\nstartujemy od 21:00
ATTACH;FMTTYPE=image/jpeg:https://night4u.pl/wp-content/uploads/2019/05/37
 814_image_59599679_2424155817615734_583922175648464896_o.jpg
CATEGORIES:świętokrzyskie
LOCATION:Bajla Club - Restauracja\, Wybrzeże im. Marszałka Piłsudskiego 
 1\, Sandomierz\, 27-600\, Poland
GEO:50.674175;21.748381
X-APPLE-STRUCTURED-LOCATION;VALUE=URI;X-ADDRESS=Wybrzeże im. Marszałka Pi
 łsudskiego 1\, Sandomierz\, 27-600\, Poland;X-APPLE-RADIUS=100;X-TITLE=Ba
 jla Club - Restauracja:geo:50.674175,21.748381
END:VEVENT
BEGIN:VTIMEZONE
TZID:Europe/Warsaw
X-LIC-LOCATION:Europe/Warsaw
BEGIN:DAYLIGHT
DTSTART:20190331T030000
TZOFFSETFROM:+0100
TZOFFSETTO:+0200
TZNAME:CEST
END:DAYLIGHT
END:VTIMEZONE
END:VCALENDAR