BEGIN:VCALENDAR
VERSION:2.0
PRODID:-//wp-events-plugin.com//7.2.3.1//EN
TZID:Europe/Warsaw
X-WR-TIMEZONE:Europe/Warsaw
BEGIN:VEVENT
UID:47459@night4u.pl
DTSTART;TZID=Europe/Warsaw:20200424T200000
DTEND;TZID=Europe/Warsaw:20200424T230000
DTSTAMP:20200409T154634Z
URL:https://night4u.pl/wydarzenia/bajzel-krakow-24-04-klub-zascianek/
SUMMARY:Bajzel / Kraków / 24.04 / Klub Zaścianek
DESCRIPTION:To chodząca machina muzyczna. Sam pisze teksty\, komponuje mu
 zykę oraz śpiewa. Jego koncerty wyróżnia nietypowa\, oryginalna ko
 mpozycja powstała z przeplatania wielu gatunków.\nPrzy pomocy zapętla
 nia sampli perkusyjnych\, gitar i wokali śpiewanych na żywo tworzy muz
 ykę przypominającą kilkuosobowy zespół. Od 2011 roku wraz z Jacki
 em „Budyniem” Szymkiewiczem (Pogodno) tworzą duet Babu Król\, z kt
 órym również stale koncertują.\n\nMuzyk ma na swoim koncie kilkase
 t koncertów w kraju i za granicą ( m. in. Stany Zjednoczone\, Hiszpani
 a\, Holandia\, Belgia\, Francja\, Czechy). Grał trasy m.in z Pogodno\, Ka
 sią Nosowską\, Strachy Na Lachy\, Lao Che.\n\nPod koniec październik
 a 2016 r. wydaje kolejną\, piątą już płytę – amOK. Jest ona p
 rzemyślaną i skomponowaną strukturą złożoną z starannie prost
 ych piosenek\, a zarazem zawiłych\, czasem orkiestrowych kompozycji. To p
 otężny\, dojrzały kop w przód\, a także sentymentalny powrót do
  początku.\n DYSKOGRAFIA:\n- Bajzel (2007)\n- Miłośnij (2009)\nMała 
 Wulgaria (2011) \nGinkGo (2013)\n- amOK (2016)\nDostępne do przesłuchan
 ia na\nhttp://bajzel.bandcamp.com/\n\nTELEDYSKI:\nhttps://www.youtube.com/
 watch?v=EiVyrvseocY („Wsioryba”) \nhttps://www.youtube.com/watch?v=HkS
 OGeCKNvY („Happy love”) \nhttps://www.youtube.com/watch?v=2_ZqOuo8lV0 
 („Zabawki”) \nhttps://www.youtube.com/watch?v=nnMTdzIxY64 („Nie znik
 aj”)\nhttps://www.youtube.com/watch?v=TMo1U1OZZBo („Window”)\n\n\nBi
 lety:\n25 zł - przedsprzedaż\n35 zł - w dniu koncertu\n\nDostępne wkr
 ótce online:\nhttps://ticketclub.pl/koncerty/bajzel-klub-zascianek-krakow
 -1336/\nhttps://www.ebilet.pl/miejsce/klub-zascianek/\n\nBajzel\nKlub Zaś
 cianek\nKraków\, ul. Rostafińskiego 4\n24.04.2020\n19:00 - thedoors\n20:
 00 - start\n\nBajzel\nhttp://bajzel.eu/\nFacebook:\nhttps://www.facebook.c
 om/BajzelBajzel/\nYouTube: �https://www.youtube.com/user/bajzelbajzel
ATTACH;FMTTYPE=image/jpeg:https://night4u.pl/wp-content/uploads/2020/02/15
 8456_image_86279710_3347180858642012_6285821857606139904_o.jpg
CATEGORIES:małopolskie
LOCATION:Klub Zaścianek\, ul. Rostafińskiego 4\, Kraków\, 30-072\, Polan
 d
GEO:50.068039;19.905487
X-APPLE-STRUCTURED-LOCATION;VALUE=URI;X-ADDRESS=ul. Rostafińskiego 4\, Kra
 ków\, 30-072\, Poland;X-APPLE-RADIUS=100;X-TITLE=Klub Zaścianek:geo:50.0
 68039,19.905487
END:VEVENT
BEGIN:VTIMEZONE
TZID:Europe/Warsaw
X-LIC-LOCATION:Europe/Warsaw
BEGIN:DAYLIGHT
DTSTART:20200329T030000
TZOFFSETFROM:+0100
TZOFFSETTO:+0200
TZNAME:CEST
END:DAYLIGHT
END:VTIMEZONE
END:VCALENDAR