BEGIN:VCALENDAR
VERSION:2.0
PRODID:-//wp-events-plugin.com//7.2.3.1//EN
TZID:Europe/Warsaw
X-WR-TIMEZONE:Europe/Warsaw
BEGIN:VEVENT
UID:42986@night4u.pl
DTSTART;TZID=Europe/Warsaw:20200117T210000
DTEND;TZID=Europe/Warsaw:20200118T020000
DTSTAMP:20200116T124132Z
URL:https://night4u.pl/wydarzenia/bal-przy-piatku-karla-brumi/
SUMMARY:Bal przy piątku | Karla Brumi
DESCRIPTION:W karnawale w pełni\, przy piątku\, przy barze i na parkiecie
  - selekcję muzyczną wszystkiego\, co najlepsze do tańca przeprowadzi k
 arla brumi! ⚡️⚡️⚡️\n\nkarla brumi- o poranku słucha jazzu z w
 inyli\, a pod osłoną nocy puszcza piosenki do tańca. Rozpoznasz ją po 
 ciężkiej walizce z płytami CD. Od Arethy Franlin i Roya Orbisona\, prze
 z Madonnę i Davida Bowie\, po La Femme i Moderat – wszędzie tam bije j
 ej muzyczne serce\n\nStart 21:00\nWjazd \; freeeeee :)
ATTACH;FMTTYPE=image/jpeg:https://night4u.pl/wp-content/uploads/2020/01/13
 6973_image_82874286_2990968880921686_6589211642951630848_n.jpg
CATEGORIES:mazowieckie
LOCATION:Regeneracja\, Puławska 61\, Mokotów\, 02-595\, Poland
GEO:52.203102;21.023553
X-APPLE-STRUCTURED-LOCATION;VALUE=URI;X-ADDRESS=Puławska 61\, Mokotów\, 0
 2-595\, Poland;X-APPLE-RADIUS=100;X-TITLE=Regeneracja:geo:52.203102,21.023
 553
END:VEVENT
BEGIN:VTIMEZONE
TZID:Europe/Warsaw
X-LIC-LOCATION:Europe/Warsaw
BEGIN:STANDARD
DTSTART:20191027T020000
TZOFFSETFROM:+0200
TZOFFSETTO:+0100
TZNAME:CET
END:STANDARD
END:VTIMEZONE
END:VCALENDAR