BEGIN:VCALENDAR
VERSION:2.0
PRODID:-//wp-events-plugin.com//7.2.3.1//EN
TZID:Europe/Warsaw
X-WR-TIMEZONE:Europe/Warsaw
BEGIN:VEVENT
UID:47273@night4u.pl
DTSTART;TZID=Europe/Warsaw:20200229T230000
DTEND;TZID=Europe/Warsaw:20200301T060000
DTSTAMP:20200229T173820Z
URL:https://night4u.pl/wydarzenia/balkanska-potupajka-is-back-warszawa/
SUMMARY:Bałkańska Potupajka Is Back! // Warszawa
DESCRIPTION:🎸📯🎷🎺🎸📯🎷🎺🎸📯🎷🎺🎸📯\n\nBA
 ŁKAŃSKA POTUPAJKA is BACK!\n\nOstatnia Potupajka była w maju\, czyli 9 
 miesięcy temu. Kiedy będzie następna? Ciężko powiedzieć.... Tak wię
 c korzystając z okazji\, zróbmy sobie małe Reunion \;)\n\n🔥 Zagrają
 : 🔥\nDJ WOJ\nDJ Fahadzinski World Music\nWarsaw Balkan Madness\n+ niepo
 dzianki\n\n★ Balkan ★ Gipsy ★ Slavic ★ Klezmer ★ Oriental ★ Ea
 stern ★\n\nStart: 23:00\nEntry: 20 pln
ATTACH;FMTTYPE=image/jpeg:https://night4u.pl/wp-content/uploads/2020/02/15
 7631_image_86390148_3703729116311816_158004596915044352_o.jpg
CATEGORIES:mazowieckie
LOCATION:Klub Hydrozagadka\, 11 listopada 22\, 03-436 Warszawa\, Poland\, P
 raga\, 03-436\, Poland
GEO:52.259283;21.036925
X-APPLE-STRUCTURED-LOCATION;VALUE=URI;X-ADDRESS=11 listopada 22\, 03-436 Wa
 rszawa\, Poland\, Praga\, 03-436\, Poland;X-APPLE-RADIUS=100;X-TITLE=Klub 
 Hydrozagadka:geo:52.259283,21.036925
END:VEVENT
BEGIN:VTIMEZONE
TZID:Europe/Warsaw
X-LIC-LOCATION:Europe/Warsaw
BEGIN:STANDARD
DTSTART:20191027T020000
TZOFFSETFROM:+0200
TZOFFSETTO:+0100
TZNAME:CET
END:STANDARD
END:VTIMEZONE
END:VCALENDAR