BEGIN:VCALENDAR
VERSION:2.0
PRODID:-//wp-events-plugin.com//7.2.3.1//EN
TZID:Europe/Warsaw
X-WR-TIMEZONE:Europe/Warsaw
BEGIN:VEVENT
UID:32580@night4u.pl
DTSTART;TZID=Europe/Warsaw:20191024T210000
DTEND;TZID=Europe/Warsaw:20191025T050000
DTSTAMP:20191018T110642Z
URL:https://night4u.pl/wydarzenia/baltic-gym-in-ego-bpm-vibe/
SUMMARY:Baltic Gym in Ego / BPM / Vibe
DESCRIPTION:Klub Ego razem z siłownią Baltic Gym Sopot zapraszają na wsp
 ólną czwartkową imprezę do EGO!\n\nMnóstwo dobrej muzyki przyjaciół
  a także wyczekiwane spotkanie z trenerami. Dla klubowiczów Baltic Gym S
 opot na karnet z siłowni wejście za free + darmowy drink powitalny. \n\n
 Podczas imprezy wszyscy uczestnicy będą mieli okazje wygrać wejściówk
 i do Baltic Gym Sopot na darmowy trening oraz voucher na Diety od Brokuła
 !\n\nW czwartek wszyscy #widzimysiewego\n\nBEATS PER MINUTE | BPM\n\nCzyli
  twoje ulubione kawałki których jeszcze nie znasz\, impreza dla tych co 
 wymagają\, ale też od siebie dają\, wszystkie troski zostają na zewną
 trz\, teraz liczy się tylko zabawa i bit\, który z każda minutą wznosi
  Cię wyżej i wyżej!\n\nDaj się porwać BPM razem z DJ VIBE Official Pr
 ofile \n\nRezerwacje stolików \noraz oferta dla grup zorganizowanych:\n+ 
 48 731 351 351\n\n▬ 24.10.2019\n▬ Lista FB: free do 22.00\n▬ Wejści
 e od 21 roku życia (lub za okazaniem legitymacji studenckiej)\n▬ Wejśc
 ie: 10 pln - 20 pln\n▬ Karty klubowe EGO: Free
ATTACH;FMTTYPE=image/jpeg:https://night4u.pl/wp-content/uploads/2019/10/78
 447_image_72557485_10156975840974285_872027091510493184_o.jpg
CATEGORIES:pomorskie
LOCATION:Ego Sopot\, ul. Bohaterów Monte Cassino 53\, Sopot\, 81-767\, Pol
 and
GEO:54.444297;18.566687
X-APPLE-STRUCTURED-LOCATION;VALUE=URI;X-ADDRESS=ul. Bohaterów Monte Cassin
 o 53\, Sopot\, 81-767\, Poland;X-APPLE-RADIUS=100;X-TITLE=Ego Sopot:geo:54
 .444297,18.566687
END:VEVENT
BEGIN:VTIMEZONE
TZID:Europe/Warsaw
X-LIC-LOCATION:Europe/Warsaw
BEGIN:DAYLIGHT
DTSTART:20190331T030000
TZOFFSETFROM:+0100
TZOFFSETTO:+0200
TZNAME:CEST
END:DAYLIGHT
END:VTIMEZONE
END:VCALENDAR