BEGIN:VCALENDAR
VERSION:2.0
PRODID:-//wp-events-plugin.com//7.2.3.1//EN
TZID:Europe/Warsaw
X-WR-TIMEZONE:Europe/Warsaw
BEGIN:VEVENT
UID:43648@night4u.pl
DTSTART;TZID=Europe/Warsaw:20200121T190000
DTEND;TZID=Europe/Warsaw:20200121T220000
DTSTAMP:20200121T021754Z
URL:https://night4u.pl/wydarzenia/bang2-warszawa-hybrydy/
SUMMARY:Bang2 - Warszawa - Hybrydy
DESCRIPTION:PRZEDPREMIEROWO W HYBRYDACH!\nRafał Pacześ\, Łukasz Lotek Lo
 dkowski oraz Kacper Ruciński w trasie\, której jeszcze nie było. \n\nTy
 lko premierowe programy\, napisane specjalnie na tę okazję\, które będ
 ziecie mogli zobaczyć po raz pierwszy w życiu i tylko tutaj. Największe
  hale w Polsce. Sto tysięcy biletów.
ATTACH;FMTTYPE=image/jpeg:https://night4u.pl/wp-content/uploads/2020/01/13
 9687_image_82450458_860852844374189_2436942943144116224_n.jpg
CATEGORIES:mazowieckie
LOCATION:Hybrydy\, Złota 7/9\, Warsaw\, 00-019\, Poland
GEO:52.23268;21.01157
X-APPLE-STRUCTURED-LOCATION;VALUE=URI;X-ADDRESS=Złota 7/9\, Warsaw\, 00-01
 9\, Poland;X-APPLE-RADIUS=100;X-TITLE=Hybrydy:geo:52.23268,21.01157
END:VEVENT
BEGIN:VTIMEZONE
TZID:Europe/Warsaw
X-LIC-LOCATION:Europe/Warsaw
BEGIN:STANDARD
DTSTART:20191027T020000
TZOFFSETFROM:+0200
TZOFFSETTO:+0100
TZNAME:CET
END:STANDARD
END:VTIMEZONE
END:VCALENDAR