BEGIN:VCALENDAR
VERSION:2.0
PRODID:-//wp-events-plugin.com//7.2.3.1//EN
TZID:Europe/Warsaw
X-WR-TIMEZONE:Europe/Warsaw
BEGIN:VEVENT
UID:38899@night4u.pl
DTSTART;TZID=Europe/Warsaw:20211015T200000
DTEND;TZID=Europe/Warsaw:20211015T220000
DTSTAMP:20210908T144716Z
URL:https://night4u.pl/wydarzenia/baranovski-warszawa-16-04-2020/
SUMMARY:Baranovski / Warszawa / 15.10.2021 - PONOWNA ZMIANA DATY!
DESCRIPTION:BARANOVSKI - PONOWNA ZMIANA DATY!\n15.10.2021\, godz. 20:00 (pi
 ątek)\nPalladium\, ul. Złota 9\, Warszawa\n____\n\nOh no\, not again!  \
 n\nNiestety... Po raz kolejny (choć za każdym razem jesteśmy pełni nad
 ziei i werwy do powrotu do koncertowania) z przykrością informujemy\, ż
 e pomimo najszczerszych chęci Organizatorów oraz Artysty\, nie uda się 
 zorganizować zaplanowanego na 22.04.2021 koncertu Baranovskiego w Warszaw
 ie z uwagi na obowiązujące ograniczenia i restrykcje związane z pandemi
 ą koronawirusa. Wierzymy jednak\, że spotkamy się z Wami jesienią\, dl
 atego koncert zostaje przeniesiony na 15.10.2021. Miejsce i godzina koncer
 tu pozostają bez zmian – wydarzenie odbędzie się w Palladium o godz. 
 20:00. \n\nWszystkie dotychczas zakupione bilety zachowują swoją ważno
 ść. \n\nDziękujemy za wyrozumiałość i do zobaczenia! \n\nZespół Go
 od Taste Production \n\n____\n\nUwaga! \n\nZ przykrością informujemy\, 
 że\, pomimo najszczerszych chęci Organizatorów oraz Artysty\, nie uda s
 ię zorganizować zaplanowanego na 25.02.2021 koncertu Baranovskiego w War
 szawie z uwagi na obowiązujące ograniczenia i restrykcje związane z pan
 demią koronawirusa. Koncert zostaje przeniesiony na 22.04.2021. Miejsce i
  godzina koncertu pozostają bez zmian.  \n\nWszystkie dotychczas zakupion
 e bilety zachowują swoją ważność. Bilety dostępne jeszcze w sprzeda
 ży na www.eventim.pl/goodtaste\, www.ebilet.pl\, www.kupbilecik.pl  \n\nD
 ziękujemy za wyrozumiałość i do zobaczenia niebawem!  \n\nZespół Goo
 d Taste Production \n\n____\n\nUwaga!  \n\nZe względu na oficjalne decyzj
 e rządowe o COVID-19 i troskę o bezpieczeństwo uczestników imprezy\, z
 aplanowany na 1 czerwca 2020 roku koncert BARANOVSKi zostaje przeniesiony 
 na 25 lutego 2021 roku. Nastąpiła zmiana miejsca koncertu. Wydarzenie od
 będzie się w klubie Palladium. Godzina koncertu pozostaje bez zmian. \n\
 nZakupione bilety zachowują ważność. \nW przypadku\, gdy nowy termin w
 ydarzenia jest niesatysfakcjonujący\, istnieje możliwość wymiany bilet
 u na voucher na inne imprezy organizowane przez Good Taste Production.* Do
 kładne instrukcje przesyłają drogą mailową bileterie\, w których dok
 onało się zakupu. \nPrzepraszamy za niedogodności i dziękujemy za okaz
 aną wyrozumiałość. \n\nZespół Good Taste Production  \n\n*Opcja vouc
 heru dostępna jest w następujących bileteriach: Eventim\, eBilet\, KupB
 ilecik.\n_____\n\nBilety w cenach: miejsca stojące – 59 zł (pula II)\n
 Bilety dostępne na: www.eventim.pl/goodtaste\, www.ebilet.pl\, www.kupbil
 ecik.pl oraz w sklepach sieci Media Markt.\n\nUwaga! Zakup biletów poza a
 utoryzowanymi punktami sprzedaży (Facebook\, aukcje internetowe itp.) stw
 arza ryzyko zakupu biletów nieoryginalnych lub nieważnych\, które nie u
 możliwią wejścia na koncert.\n\nGood Taste Production zaprasza na pierw
 szą trasę koncertową autora hitów „Czułe miejsce”\, „Luźno” 
 czy „Dym”! BARANOVSKI wystąpi w największych miastach w Polsce! Arty
 sta rozkołysze publiczność we Wrocławiu\, Poznaniu\, Gdańsku\, Krakow
 ie i Warszawie.\n\n„Tak się robi pop”\; „Początek kariery BARANOVS
 KIEGO każe przypuszczać\, że mamy do czynienia z muzykiem o midasowym d
 otyku”\; „Zobaczyłem w nim weselszy odpowiednik Korteza. Może też p
 otencjalnego konkurenta dla Dawida Podsiadły”\; „Szkoda\, że BARANOV
 SKI był już kandydatem do Fryderyka po wydaniu raptem kilku nagrań. Z a
 lbumem „Zbiór” stałby się pewniakiem do zwycięstwa”. - to tylko 
 kilka cytatów z recenzji wyczekiwanej debiutanckiej płyty BARANOVSKIEGO\
 ,  w zgodnej opinii krytyków jednego z najbardziej udanych albumów w pol
 skim popie ostatnich lat. To także jedna z najbardziej błyskotliwych kar
 ier na rodzimej scenie w ostatnich sezonach. Jej bohater potrzebował bowi
 em zaledwie półtora roku od premiery debiutanckiej piosenki\, aby cztery
  kolejne przebojowe single wprowadzić na najwyższe rotacje największych
  stacji radiowych\, zdobyć nominację do Fryderyka\, a z koncertami pojaw
 ić się na najważniejszych festiwalowych scenach w kraju.\n\nZa projekte
 m BARANOVSKI stoi Wojtek Baranowski\, którego można pamiętać z udział
 u w programie The Voice Of Poland lub z koncertów grupy XXANAXX\, gdzie w
 ystępował jako klawiszowiec i gitarzysta zespołu. Na początku 2018 rok
 u przyszedł jednak czas\, aby ten młody wokalista\, muzyk i songwriter n
 a nowo zaczął pisać swoją własną\, autorską historię. Było to jed
 no z najmocniejszych wejść na rynek muzyczny ostatnich sezonów. Po sing
 lach „Dym” i „Luźno” oraz występach na scenach najważniejszych 
 koncertowych wydarzeń w kraju\, na czele z Open’erem\, Orange Warsaw Fe
 stival i Męskim Graniem\, potwierdziła to dodatkowo nominacja do Frydery
 ka w kategorii „fonograficzny debiut roku”.\n\nW 2019 rok BARANOVSKI w
 szedł z kolejnym singlem zapowiadającym jego debiutancką płytę. \nNie
  mniej chwytliwym i przyjaznym radiu jak dotychczasowe propozycje\, acz ut
 rzymanym w zupełnie innym tonie. Mowa o piosence „Zbiór” - łagodnej
  i nastrojowej balladzie\, w której BARANOVSKI pokazał się jako romanty
 czny wrażliwiec\, muzycznie zaś dał w niej wyraz swojej sympatii do kla
 sycznych brzmień w duchu vintage. Jeszcze większy sukces niż poprzednie
  przebojowe piosenki odniósł opublikowany późnym latem 2019 singiel 
 „Czułe miejsce”. Stał się on jednym z największych hitów roku\, p
 odbijając szczyt oficjalnej listy najczęściej granych piosenek w radiu 
 w Polsce. \n\n25 października swoją premierę miała oczekiwana debiutan
 cka płyta BARANOVSKIEGO zatytułowana „Zbiór”\, której entuzjastycz
 ne przyjęcie potwierdza\, że przed artystą wkrótce kolejne duże sukce
 sy.\n\nRegulamin dostępny na: www.goodtaste.pl/regulamin.
ATTACH;FMTTYPE=image/jpeg:https://night4u.pl/wp-content/uploads/2021/04/11
 2011_image_129775125_4198145333533941_6671487598938506409_n.jpg
CATEGORIES:mazowieckie
END:VEVENT
BEGIN:VTIMEZONE
TZID:Europe/Warsaw
X-LIC-LOCATION:Europe/Warsaw
BEGIN:DAYLIGHT
DTSTART:20210328T030000
TZOFFSETFROM:+0100
TZOFFSETTO:+0200
TZNAME:CEST
END:DAYLIGHT
END:VTIMEZONE
END:VCALENDAR