BEGIN:VCALENDAR
VERSION:2.0
PRODID:-//wp-events-plugin.com//7.2.3.1//EN
TZID:Europe/Warsaw
X-WR-TIMEZONE:Europe/Warsaw
BEGIN:VEVENT
UID:26861@night4u.pl
DTSTART;TZID=Europe/Warsaw:20190911T210000
DTEND;TZID=Europe/Warsaw:20190912T060000
DTSTAMP:20190907T175954Z
URL:https://night4u.pl/wydarzenia/barmani-topless-xdemon-zielona-gora/
SUMMARY:Barmani Topless // Xdemon Zielona Góra
DESCRIPTION:? Kolejny pozytywnie zakręcony winobraniowy tydzień w klubie 
 X-Demon! ?\n➡️BARMANI TOPLESS\n➡️OPEN BAR dla Pań do 24:00\n➡
 ️ Seksowni Tancerze\n\n Dołącz do wydarzenia już dziś!\n\n☎ Rezerw
 acje ONLINE http://bit.ly/1RtF806\nINFO: 797 407 885 ☎\n\nNie zapomnij o
  kuszących promocjach w klubie X-DEMON:\n\nPROMOCJA URODZINOWA\nPROMOCJA 
 NA WIECZÓR PANIEŃSKI \n\nOBSERWUJ NAS:\nwww.xdemon.pl\nwww.facebook.com/
 XDemon\nwww.instagram.com/xdemonzielonagora\nsnapchat: xdemonzg
ATTACH;FMTTYPE=image/jpeg:https://night4u.pl/wp-content/uploads/2019/09/62
 627_image_69585174_3439054959441597_3682553058929147904_o.jpg
CATEGORIES:lubuskie
LOCATION:X-Demon - Zielona Góra\, \, 
X-APPLE-STRUCTURED-LOCATION;VALUE=URI;X-ADDRESS=\, ;X-APPLE-RADIUS=100;X-TI
 TLE=X-Demon - Zielona Góra:geo:0,0
END:VEVENT
BEGIN:VTIMEZONE
TZID:Europe/Warsaw
X-LIC-LOCATION:Europe/Warsaw
BEGIN:DAYLIGHT
DTSTART:20190331T030000
TZOFFSETFROM:+0100
TZOFFSETTO:+0200
TZNAME:CEST
END:DAYLIGHT
END:VTIMEZONE
END:VCALENDAR