BEGIN:VCALENDAR
VERSION:2.0
PRODID:-//wp-events-plugin.com//7.2.3.1//EN
TZID:Europe/Warsaw
X-WR-TIMEZONE:Europe/Warsaw
BEGIN:VEVENT
UID:24252@night4u.pl
DTSTART;TZID=Europe/Warsaw:20191028T180000
DTEND;TZID=Europe/Warsaw:20191028T230000
DTSTAMP:20191028T155420Z
URL:https://night4u.pl/wydarzenia/baroness-official-event-klub-kwadrat-28-
 10-2019/
SUMMARY:Baroness Official Event\, Klub Kwadrat\, 28.10.2019
DESCRIPTION:Baroness z koncertem w Krakowie!\n28 października – Kraków\
 , klub Kwadrat \nBilety trafią do ogólnej sprzedaży 9 sierpnia o godz. 
 10:00 na LiveNation.pl\nPrzedsprzedaż dla zarejestrowanych użytkowników
  LiveNation.pl ruszy 8 sierpnia o 10:00 I potrwa do 9 sierpnia do godz. 9:
 00 \nPrzedsprzedaż Citi Handlowy ruszy 7 sierpnia o godz. 10:00 i potrwa 
 do 9 sierpnia do godz. 9:00\n\nBaroness to John Baizley (wokal/gitara)\, G
 ina Gleason (gitara)\, Nick Jost (bas) i Sebastian Thomson (perkusja). Zes
 pół otrzymał nominację do nagrody Grammy za piosenkę „Shock Me” (
  z albumu „Purple”\, 2015) w kategorii „Best Metal Performance”. 
 „Purple” zebrał pochwały na całym świecie\, na czele z magazynem P
 itchfork mówiącym\, że album zawiera „jedne z największych i najmocn
 iejszych utworów\, jakie zespól Baroness kiedykolwiek napisał” oraz M
 ojo stwierdzające\, że „Baroness wydało arcydzieło”. Album otrzyma
 ł wiele wyróżnień\, a pochodzący z niego utwór „Shock Me’’ zna
 lazł się na 10. Miejscu na liście Entertainment Weekly’s Top 40 Songs
  of 2015. Płyta zajęła 6 miejsce w zestawieniu Pitchfork Best Metal Alb
 ums of 2015 oraz 7 miejsce na liście Rolling Stone’s 20 Best Metal Albu
 ms of 2015. Lista albumów studyjnych zespołu to: Gold &amp\; Grey (2019)
 \, Purple (2015)\, Yellow &amp\; Green (2012)\, Blue Record (2009)\, Red A
 lbum (2007)\, A Grey Sigh in a Flower Husk (Split LP\, 2007)\, Second (EP\
 , 2004) oraz First (EP\, 2004).\n„Gold&amp\;Grey”\, ostatni album Baro
 ness miał premierę w czerwcu 2019 roku.\nTo jedna z najbardziej wyczekiw
 anych premier rockowych tego roku. Portal Consequence of Sound przyznał n
 ajwyższą notę albumowi\, opisując „Gold&amp\;Grey” jako „kulmina
 cję całej ich pasji i dyscypliny”\, podczas gdy MetalSucks rozwija tę
  myśl\, mówiąc „Album pasuje do chromatycznej serii\, którą rozpocz
 ęła ognista składanka „Red Album” zakończonej głęboką wewnętrz
 ną refleksją jak ta. Spontanicznie melancholijny i jednocześnie orzeźw
 iający „Gold&amp\;Grey” doskonale obrazuje jak Baroness przodują w o
 siąganiu świetlistych szczytów\, a także schodzą w ponure doliny”.
ATTACH;FMTTYPE=image/jpeg:https://night4u.pl/wp-content/uploads/2019/08/57
 135_image_67557175_10156985762707631_7684408138560176128_n.jpg
CATEGORIES:małopolskie
LOCATION:Hala Forum\, Marii Konopnickiej 28\, Kraków\, 30-302\, Poland
GEO:50.04504;19.93639
X-APPLE-STRUCTURED-LOCATION;VALUE=URI;X-ADDRESS=Marii Konopnickiej 28\, Kra
 ków\, 30-302\, Poland;X-APPLE-RADIUS=100;X-TITLE=Hala Forum:geo:50.04504,
 19.93639
END:VEVENT
BEGIN:VTIMEZONE
TZID:Europe/Warsaw
X-LIC-LOCATION:Europe/Warsaw
BEGIN:STANDARD
DTSTART:20191027T020000
TZOFFSETFROM:+0200
TZOFFSETTO:+0100
TZNAME:CET
END:STANDARD
END:VTIMEZONE
END:VCALENDAR