BEGIN:VCALENDAR
VERSION:2.0
PRODID:-//wp-events-plugin.com//7.2.3.1//EN
TZID:Europe/Warsaw
X-WR-TIMEZONE:Europe/Warsaw
BEGIN:VEVENT
UID:22973@night4u.pl
DTSTART;TZID=Europe/Warsaw:20190803T220000
DTEND;TZID=Europe/Warsaw:20190804T060000
DTSTAMP:20190724T170336Z
URL:https://night4u.pl/wydarzenia/bass-commission-6/
SUMMARY:Bass Commission
DESCRIPTION:Music: House/Future House/Bass House & Fidget/Mashup/Trap\nMAIN
 Floor : \nRezydent: \nKYDE\nAHO\n\nRNB Floor : \nS-MASTER\n\nKlub Coco Kra
 ków wraz z marką #CIROC BLACK zaprasza Was na świeży cykl imprez!!!\n\
 nBass Commission to wydarzenie charakteryzujące się specjalnie\nwyselekc
 jonowaną muzyką\, świeżością i mocnym uderzeniem. \n\nNa czele komis
 ji od spraw bassu staną AHO i KYDE\, świetnie zapowiadający się krakow
 scy dje i współtwórcy Bass Commission. Będą oni odpowiedzialni za ser
 wowanie Wam najlepszej muzyki na tej ziemi! Musicie koniecznie to sprawdzi
 ć! \n\n-----------------------\nPROMOCJA DLA PAŃ:\n2 drinki = 10 zł!\nO
 dbierz od selekcjonera ulotkę\, dzięki której kupisz 2 drinki w cenie 1
 0 zł! Lista wszystkich drinków dostępna na barze\n\nUWAGA! Promocje obo
 wiązują po dopisaniu się do listy gości na FB lub where2be:\nhttps://w
 ww.where2b.org/event/77140\nDODATKOWO: wstęp FREE do 24:00 z listy!
ATTACH;FMTTYPE=image/jpeg:https://night4u.pl/wp-content/uploads/2019/07/54
 291_image_67122629_3212003415476787_1789491638477783040_o.jpg
CATEGORIES:małopolskie
END:VEVENT
BEGIN:VTIMEZONE
TZID:Europe/Warsaw
X-LIC-LOCATION:Europe/Warsaw
BEGIN:DAYLIGHT
DTSTART:20190331T030000
TZOFFSETFROM:+0100
TZOFFSETTO:+0200
TZNAME:CEST
END:DAYLIGHT
END:VTIMEZONE
END:VCALENDAR