BEGIN:VCALENDAR
VERSION:2.0
PRODID:-//wp-events-plugin.com//7.2.3.1//EN
TZID:Europe/Warsaw
X-WR-TIMEZONE:Europe/Warsaw
BEGIN:VEVENT
UID:31032@night4u.pl
DTSTART;TZID=Europe/Warsaw:20191116T220000
DTEND;TZID=Europe/Warsaw:20191117T060000
DTSTAMP:20191116T052214Z
URL:https://night4u.pl/wydarzenia/bass-commission-8/
SUMMARY:Bass Commission
DESCRIPTION:Music: House/Future House/Bass House &amp\; Fidget/Mashup/Trap\
 nMAINFloor : \n\nGościnnie:\n★★★ Orquell ★★★ /Rezydent COCO M
 usic Club &amp\; Kraków /\nFacebook: https://www.facebook.com/orquell/\nI
 nstagram: https://www.instagram.com/orquell\nDemodrop: https://demodrop.co
 m/orquell\n\nRezydent: \n★★★ AHO ★★★  /Rezydent COCO Music Clu
 b &amp\; Kraków /\nFacebook: https://www.facebook.com/imahobro/\nInstagra
 m: https: https://www.instagram.com/im.aho.bro/\n\n\nRNB Floor : \nPISTOLE
 T\n\nKlub Coco Kraków wraz z marką #CIROC BLACK zaprasza Was na świeży
  cykl imprez!!!\n\nBass Commission to wydarzenie charakteryzujące się sp
 ecjalnie\nwyselekcjonowaną muzyką\, świeżością i mocnym uderzeniem. 
 \n\nNa czele komisji od spraw bassu stanie rezydent AHO\, a gościnnie zag
 ra ORQUELL! \n\nSpodziewajcie się najlepszej muzyki na tej ziemi! Musicie
  koniecznie to sprawdzić! \n\n-------------------------------------------
 -------------------------------------\nPROMOCJA DLA PAŃ:\n2 pierwsze drin
 ki = 10 zł!\n\nOdbierz od selekcjonera ulotkę\, dzięki której kupisz 2
  drinki w cenie 20 zł! Lista wszystkich drinków dostępna na barze\n\nUW
 AGA! Promocje obowiązują po dopisaniu się do listy gości na FB lub whe
 re2be:\nhttps://www.where2b.org/event/82034\nDODATKOWO: wstęp FREE do 24:
 00 z listy!
ATTACH;FMTTYPE=image/jpeg:https://night4u.pl/wp-content/uploads/2019/10/72
 022_image_71694884_3444176205592839_3803646741262106624_o.jpg
CATEGORIES:małopolskie
END:VEVENT
BEGIN:VTIMEZONE
TZID:Europe/Warsaw
X-LIC-LOCATION:Europe/Warsaw
BEGIN:STANDARD
DTSTART:20191027T020000
TZOFFSETFROM:+0200
TZOFFSETTO:+0100
TZNAME:CET
END:STANDARD
END:VTIMEZONE
END:VCALENDAR