BEGIN:VCALENDAR
VERSION:2.0
PRODID:-//wp-events-plugin.com//7.2.3.1//EN
TZID:Europe/Warsaw
X-WR-TIMEZONE:Europe/Warsaw
BEGIN:VEVENT
UID:18346@night4u.pl
DTSTART;TZID=Europe/Warsaw:20190608T210000
DTEND;TZID=Europe/Warsaw:20190609T070000
DTSTAMP:20190605T205406Z
URL:https://night4u.pl/wydarzenia/bassment-prezentuje-sinusoyda/
SUMMARY:Bassment prezentuje: Sinusoyda
DESCRIPTION:BASSMENT prezentuje: SINUSOYDA + goście\n\n\nZapraszamy Was go
 rąco w sobotę 8go czerwca na drum'n'bassową ucztę\, na której zagra d
 la Was DJ SINUSOYDA\, rozchwytywany\, prężnie działający\, mistrz miks
 owania połamanych dźwięków. Support zapewni mu lokalny skład doświad
 czonej jak i świeżej krwi. A wszystko w nowym Lulu! \n\nZagrają:\n\nSin
 usoyda (Bassline / Sonic Nation / Łódź)\nMikro (Shamanagurus)\nSickstee
  (TŁUM)\nGTrix (TŁUM)\nPIETER (Bassment)\n\n\nNagłośnienie: Rygor\n\nW
 lot: pięć\n\nGrafika: Korban\n\nNie zapominamy że Sinusoyda zagra takż
 e następnego dnia czyli w niedzielę w wieczornej audycji Bassment na ant
 enie Radia Centrum. Start o 21:00 na 98.2 fm lub centrum.fm
ATTACH;FMTTYPE=image/jpeg:https://night4u.pl/wp-content/uploads/2019/06/44
 319_image_61079243_2456958337868890_1255817414801620992_o.jpg
CATEGORIES:lubelskie
LOCATION:Cafe Lulu\, Jasna 7/3\, Lublin\, 20-077\, Poland
GEO:51.244666;22.555802
X-APPLE-STRUCTURED-LOCATION;VALUE=URI;X-ADDRESS=Jasna 7/3\, Lublin\, 20-077
 \, Poland;X-APPLE-RADIUS=100;X-TITLE=Cafe Lulu:geo:51.244666,22.555802
END:VEVENT
BEGIN:VTIMEZONE
TZID:Europe/Warsaw
X-LIC-LOCATION:Europe/Warsaw
BEGIN:DAYLIGHT
DTSTART:20190331T030000
TZOFFSETFROM:+0100
TZOFFSETTO:+0200
TZNAME:CEST
END:DAYLIGHT
END:VTIMEZONE
END:VCALENDAR