BEGIN:VCALENDAR
VERSION:2.0
PRODID:-//wp-events-plugin.com//7.2.3.1//EN
TZID:Europe/Warsaw
X-WR-TIMEZONE:Europe/Warsaw
BEGIN:VEVENT
UID:14539@night4u.pl
DTSTART;TZID=Europe/Warsaw:20190503T210000
DTEND;TZID=Europe/Warsaw:20190504T060000
DTSTAMP:20190430T144536Z
URL:https://night4u.pl/wydarzenia/bassowka/
SUMMARY:Bassówka
DESCRIPTION:Bassowi najeźdźcy przejmą w piątkową noc deki metra! Na te
 n wieczór skompletowaliśmy dość eksperymentalny skład. Robi 1 Kanabi\
 , znany publice od n-lat\, zaprezentuję to co najlepsze w muzyce reggae /
  dub. Magdala - przedstawicielka płci pięknej\, swoją rozgrzewką zabie
 rze Was do krainy\, w której słońce nie zachodzi\, a księżyc z nim im
 prowizuje. Ciepły rytm i masujący miękki bass - tak określa swój styl
 . PRGN - reprezentant kolektywu Youthwave\, odkryje nam swoją ciemną str
 onę mocy przy pomocy takich gatunków\, jak: Trap / Wave / DNB. Za dekami
  w formie supportu\, wskoczy MIFI łącząc muzykę orientalną z soczysty
 m i ciepłym (czasem połamanym) BASSEM!\n\nLINEUP\n❃ Robi 1 Kanabi (Roo
 ts Vibracja Sound System)\n❃ Magdala (Królewski Sound / Powitańce)\n
 ❃ PRGN (Youthwave)\n❃ MIFI (KLUB METRO / Tribalanga Festival)
ATTACH;FMTTYPE=image/jpeg:https://night4u.pl/wp-content/uploads/2019/04/36
 161_image_59305794_10156330891236985_8449569971230474240_o.jpg
CATEGORIES:podlaskie
LOCATION:KLUB METRO\, Białówny 9/1\, Białystok\, 15-437\, Poland
GEO:53.13331;23.156827
X-APPLE-STRUCTURED-LOCATION;VALUE=URI;X-ADDRESS=Białówny 9/1\, Białystok
 \, 15-437\, Poland;X-APPLE-RADIUS=100;X-TITLE=KLUB METRO:geo:53.13331,23.1
 56827
END:VEVENT
BEGIN:VTIMEZONE
TZID:Europe/Warsaw
X-LIC-LOCATION:Europe/Warsaw
BEGIN:DAYLIGHT
DTSTART:20190331T030000
TZOFFSETFROM:+0100
TZOFFSETTO:+0200
TZNAME:CEST
END:DAYLIGHT
END:VTIMEZONE
END:VCALENDAR