BEGIN:VCALENDAR
VERSION:2.0
PRODID:-//wp-events-plugin.com//7.2.3.1//EN
TZID:Europe/Warsaw
X-WR-TIMEZONE:Europe/Warsaw
BEGIN:VEVENT
UID:41989@night4u.pl
DTSTART;TZID=Europe/Warsaw:20200111T193000
DTEND;TZID=Europe/Warsaw:20200112T013000
DTSTAMP:20200111T170649Z
URL:https://night4u.pl/wydarzenia/bca-gra-najwieksze-virale-dekady-impreza
 /
SUMMARY:BCA GRA: Największe virale dekady + impreza!
DESCRIPTION:[SHOW + IMPREZA PO!]\n\nPrzed sesją przescrollujmy jeszcze tro
 chę Insta\, 9GAGa i TikToka! BCA Flash - Teatr Improv zagra dla Was najle
 psze virale ostatnich lat ❤️🤯 A po show impreza z niesamowitym DJ M
 WT!\n\nZaloguj się z nami w Harendzie już 11 stycznia do świata beztros
 ko marnotrawionych godzin na tych cholernych mediach społecznościowych 
 ❤️ Teraz czas\, żebyśmy się z nich trochę pośmiali w realu!\n\nPr
 zygotujcie linki do ulubionych memów\, challengy\, pranków i internetowe
 go contentu\, w trakcie występu wyślijcie je do nas\, a my zainspirowani
  nimi - zagramy dla Was dobre improv 🎶\n\nA po show czas wybawić się\
 , póki jeszcze można! 😎🔥\n\nBilety 20 PLN:\n➡️ przez Internet:
  https://ewejsciowki.pl/warszawa/teatry/bca-flash-teatr-improv\,1044/bca-g
 ra-najwieksze-virale-dekady\,12857?eventId=176283 \n➡️ lub na miejscu 
 😎\n\nGdzie:\nPiwnica pod Harendą (Harenda\, Krakowskie Przedmieście 4
 )
ATTACH;FMTTYPE=image/jpeg:https://night4u.pl/wp-content/uploads/2020/01/13
 2462_image_81989289_2139321722838225_4084898538587160576_o.jpg
CATEGORIES:mazowieckie
LOCATION:Piwnica Pod Harenda\, Warsaw\, Poland
GEO:52.238943;21.018768
X-APPLE-STRUCTURED-LOCATION;VALUE=URI;X-ADDRESS=Warsaw\, Poland;X-APPLE-RAD
 IUS=100;X-TITLE=Piwnica Pod Harenda:geo:52.238943,21.018768
END:VEVENT
BEGIN:VTIMEZONE
TZID:Europe/Warsaw
X-LIC-LOCATION:Europe/Warsaw
BEGIN:STANDARD
DTSTART:20191027T020000
TZOFFSETFROM:+0200
TZOFFSETTO:+0100
TZNAME:CET
END:STANDARD
END:VTIMEZONE
END:VCALENDAR