BEGIN:VCALENDAR
VERSION:2.0
PRODID:-//wp-events-plugin.com//7.2.3.1//EN
TZID:Europe/Warsaw
X-WR-TIMEZONE:Europe/Warsaw
BEGIN:VEVENT
UID:48228@night4u.pl
DTSTART;TZID=Europe/Warsaw:20200229T193000
DTEND;TZID=Europe/Warsaw:20200229T220000
DTSTAMP:20200229T021717Z
URL:https://night4u.pl/wydarzenia/bca-niplodram-w-hybrydach-dodatkowy-dzie
 n-zycia/
SUMMARY:BCA &amp\; Niplodram w Hybrydach! - Dodatkowy dzień życia
DESCRIPTION:Spędzasz dni myśląc o alternatywnej rzeczywistości? 🤔\nW
 iecznie brakuje Ci czasu na to\, co chciałbyś robić? 🙄\nZastanawiasz
  się\, co by było\, gdyby miało nie być jutra? 😎\nDla Ciebie BCA Fl
 ash i Niplodram rozciągnęli czas i dodali kolejny dzień! 🙌📆📰\n
 Przyjdź i odbierz swój dodatkowy dzień 29 lutego 2020 roku i dowiedz si
 ę\, jak go wykorzystać! Zagrają dla Ciebie dwie grupy z alternatywnych 
 wszechświatów\, konstelacja kreatywności z Niplodramu i chłopaki z pla
 nety BCA Flash. 🎭🎫🌎\nGdzie mógłby się odbyć tak ważny dla Zi
 emian crossover? Oczywiście w Hybrydach!\nCzas na całą masę impro!\n
 ✨☄✨\nZaprasza Niplodram &amp\; BCA Flash - Teatr Improv\nGdzie? Klub
  Hybrydy 🏛\nKiedy? 29.02.2020 o 19:30 ⌚\nCena? 35 PLN na miejscu / 25
  PLN online 💵\nhttps://www.ebilet.pl/widowiska/kabarety/niplodram/\nhtt
 ps://goout.net/pl/bilety/dodatkowy-dzien-zycia-niplodram+bca-flash/cbhg/?f
 bclid=IwAR3OeYHggdaJd5WJ3WjWnO91ZLadRPYLwXJFIt4e8_GbHCPDipksZQtjCTA\n\nBil
 ety również dostępne w kasach Teatru Palladium codziennie od 12.00 do 1
 9.00.
ATTACH;FMTTYPE=image/jpeg:https://night4u.pl/wp-content/uploads/2020/02/16
 2803_image_86490881_2756486167775883_4985867932941680640_o.jpg
CATEGORIES:mazowieckie
LOCATION:Hybrydy\, Złota 7/9\, Warsaw\, 00-019\, Poland
GEO:52.23268;21.01157
X-APPLE-STRUCTURED-LOCATION;VALUE=URI;X-ADDRESS=Złota 7/9\, Warsaw\, 00-01
 9\, Poland;X-APPLE-RADIUS=100;X-TITLE=Hybrydy:geo:52.23268,21.01157
END:VEVENT
BEGIN:VTIMEZONE
TZID:Europe/Warsaw
X-LIC-LOCATION:Europe/Warsaw
BEGIN:STANDARD
DTSTART:20191027T020000
TZOFFSETFROM:+0200
TZOFFSETTO:+0100
TZNAME:CET
END:STANDARD
END:VTIMEZONE
END:VCALENDAR