BEGIN:VCALENDAR
VERSION:2.0
PRODID:-//wp-events-plugin.com//7.2.3.1//EN
TZID:Europe/Warsaw
X-WR-TIMEZONE:Europe/Warsaw
BEGIN:VEVENT
UID:32599@night4u.pl
DTSTART;TZID=Europe/Warsaw:20191023T200000
DTEND;TZID=Europe/Warsaw:20191024T050000
DTSTAMP:20191023T191104Z
URL:https://night4u.pl/wydarzenia/beanalia-ur-2019-otrzesiny-studentow-uni
 wersytetu-rzeszowskiego/
SUMMARY:Beanalia UR 2019 *Otrzęsiny Studentów Uniwersytetu Rzeszowskiego
DESCRIPTION:Gotowi na rozpoczęcie roku akademickiego najlepszą imprezą s
 ezonu❓ Samorząd Studentów Uniwersytetu Rzeszowskiego wraz ze Stowarzys
 zeniem Studentów i Absolwentów Uniwersytetu Rzeszowskiego przygotowali c
 oś specjalnie dla Was❗️ 🎶 \n\nWjeżdżamy z Beanaliami UR!\nW tym 
 roku nie rozmieniamy się \n👉 Stanie się tak dzięki zespołowi\, któ
 rego muzyka rozgrzeje parkiet do czerwoności❗️ 🔥🔥🔥 \n\nJuż 
 23 października o godzinie 20:00 🕗 w Klubie Pod Palmą będziemy bawi
 ć się razem z:\n\n  !!!🔥  Big Cyc  🔥!!! \n\nNie może Was tam zabr
 aknąć ❗ 😍 \n\n⚡ BILETY* ⚡ \n20 zł \n\n✅ Możliwość zakupu:
 \n▶️ Biuro SSUR (Al. Rejtana 16C\, pokój 012) 💥\n▶️ W domach s
 tudenckich: Laura - pokój 818B\, Filon - pokój 519A\, Hilton - pokój 40
 5  💥\n▶️ U przewodniczących kolegiów i starostów 💥\n\nPo konc
 ercie zapraszamy na #afterparty do białego rana❗ 😇\n___\n#cokolwiekr
 obiszbawsiędobrze #robimytodlaWas #powiedziesię #BeanaliaUR #niebanalneb
 eanalia
ATTACH;FMTTYPE=image/jpeg:https://night4u.pl/wp-content/uploads/2019/10/78
 708_image_72449453_2100928170008284_323648424526217216_o.jpg
CATEGORIES:podkarpackie
LOCATION:Pod Palmą\, Cicha4a\, Rzeszów\, 35-326\, Poland
GEO:50.01652;22.00478
X-APPLE-STRUCTURED-LOCATION;VALUE=URI;X-ADDRESS=Cicha4a\, Rzeszów\, 35-326
 \, Poland;X-APPLE-RADIUS=100;X-TITLE=Pod Palmą:geo:50.01652,22.00478
END:VEVENT
BEGIN:VTIMEZONE
TZID:Europe/Warsaw
X-LIC-LOCATION:Europe/Warsaw
BEGIN:DAYLIGHT
DTSTART:20190331T030000
TZOFFSETFROM:+0100
TZOFFSETTO:+0200
TZNAME:CEST
END:DAYLIGHT
END:VTIMEZONE
END:VCALENDAR