BEGIN:VCALENDAR
VERSION:2.0
PRODID:-//wp-events-plugin.com//7.2.3.1//EN
TZID:Europe/Warsaw
X-WR-TIMEZONE:Europe/Warsaw
BEGIN:VEVENT
UID:32757@night4u.pl
DTSTART;TZID=Europe/Warsaw:20191111T180000
DTEND;TZID=Europe/Warsaw:20191111T220000
DTSTAMP:20200331T205551Z
URL:https://night4u.pl/wydarzenia/beata-i-bajm-oraz-exmaanam-zagraja-11-li
 stopada-w-hali-stulecia-2/
SUMMARY:Beata i Bajm oraz exMaanam zagrają 11 listopada w Hali Stulecia!
DESCRIPTION:Beata i Bajm oraz exMaanam  zagrają 11 listopada w Hali Stulec
 ia!\n\nJak co roku zapraszamy 11 listopada do Hali Stulecia na nadzwyczajn
 y koncert z okazji  rocznicy odzyskania przez Polskę niepodległości.\nG
 wiazdą koncertu "wROCK for Freedom - Dzień Niepodległości" będzie ulu
 biony przez publiczność kilku już pokoleń zespół BAJM! \nWspólnie z
  Beatą Kozidrak zaśpiewamy największe hity - „Nie ma wody na pustyni
 ”\,  „Józek\, nie daruję Ci tej nocy”\, „Jezioro szczęścia” 
 \, „Biała armia”  i wiele innych doskonale znanych publiczności pios
 enek.\n\nOkazji do wspólnego śpiewania nie zabraknie też na koncercie z
 espołu exMAANAM\, w skład którego wchodzą muzycy legendarnego Maanamu 
 oraz nowa wokalistka Aga Bieńkowska.  Przy piosenkach „Boskie Buenos”
 \, „Cykady na Cykladach”\, „Kocham cię\, kochanie moje” czy „Kr
 akowski spleen” wspominać będziemy wspólnie nieodżałowaną Korę Ja
 ckowską. \n\nLegendy polskiego rocka oraz ich nieśmiertelne przeboje gwa
 rantują najgłośniejsze obchody 101. rocznicy odzyskania przez Polskę n
 iepodległości - warto być z nami tego dnia!\n\n11.11.19 godz.18.00 Hala
  Stulecia\, ul. Wystawowa 1\nwROCK for Freedom - Dzień Niepodległości 2
 019  \nBEATA i BAJM\nexMAANAM\nmiejsca siedzące (trybuny): 80 zł - do 30
 .09\, 90 zł - przedsprzedaż\, 100 zł - w dniu koncertu\nmiejsca stojąc
 e (płyta): 60 zł - do do 30.09\, 65 zł - przedsprzedaż\, 70 zł - w dn
 iu koncertu\n\n10.11.19 godz.16.30 Hala Stulecia\, ul. Wystawowa 1\nwROCK 
 for Freedom 2019\nLAO CHE\, WAGLEWSKI/FISZ/EMADE\, BITAMINA\, THE DUMPLING
 S\nhttps://www.facebook.com/events/1231629450334453/\nmiejsca siedzące (t
 rybuny): 75 zł - do 30.09\,  85 zł - przedsprzedaż\, 90 zł - w dniu ko
 ncertu\nmiejsca stojące (płyta): 60 zł - do 30.09\, 70 zł - przedsprze
 daż\, 80 zł - w dniu koncertu\n\nKarnety 2-dniowe stojące: 90 zł - do 
 30.09\, 105 zł - przedsprzedaż\, 120 zł - w dniu koncertu\n\nBilety dos
 tępne w sieci salonów Empik i MediaMarkt w całej Polsce\noraz w serwisa
 ch: www.wrockfest.pl/bilety-online/\, www.biletin.pl\, www.biletyna.pl\, w
 ww.eventim.pl\, www.ebilet.pl\, www.kupbilecik.pl\nrezerwacje: bilety@o2.p
 l \n\nUwaga\, kupuj bilety wyłącznie w autoryzowanych punktach! \nZakup 
 biletów poza autoryzowanymi punktami sprzedaży (Facebook\, aukcje intern
 etowe\, systemy odsprzedaży biletów itp.) stwarza ryzyko zakupu biletów
  nieoryginalnych lub nieważnych\, które nie umożliwią wejścia na konc
 ert.
ATTACH;FMTTYPE=image/jpeg:https://night4u.pl/wp-content/uploads/2019/10/80
 006_image_60277395_2462244783786727_545196598729113600_o.jpg
CATEGORIES:dolnośląskie
LOCATION:3-majówka\, ul. Wystawowa 1\, Wroclaw\, 51-618\, Poland
GEO:51.107658;17.077922
X-APPLE-STRUCTURED-LOCATION;VALUE=URI;X-ADDRESS=ul. Wystawowa 1\, Wroclaw\,
  51-618\, Poland;X-APPLE-RADIUS=100;X-TITLE=3-majówka:geo:51.107658,17.07
 7922
END:VEVENT
BEGIN:VTIMEZONE
TZID:Europe/Warsaw
X-LIC-LOCATION:Europe/Warsaw
BEGIN:STANDARD
DTSTART:20191027T020000
TZOFFSETFROM:+0200
TZOFFSETTO:+0100
TZNAME:CET
END:STANDARD
END:VTIMEZONE
END:VCALENDAR