BEGIN:VCALENDAR
VERSION:2.0
PRODID:-//wp-events-plugin.com//7.2.3.1//EN
TZID:Europe/Warsaw
X-WR-TIMEZONE:Europe/Warsaw
BEGIN:VEVENT
UID:32072@night4u.pl
DTSTART;TZID=Europe/Warsaw:20191018T220000
DTEND;TZID=Europe/Warsaw:20191019T040000
DTSTAMP:20191014T030451Z
URL:https://night4u.pl/wydarzenia/beauty-night-afterparty-po-pokazie-dawid
 a-krynickiego-balmain-2/
SUMMARY:Beauty Night |Afterparty po pokazie Dawida Krynickiego & Balmain
DESCRIPTION:Razem z DAWID KRYNICKI  i Belvedere Vodka zapraszamy na BEAUTY 
 NIGHT - oficjalne afterparty po pokazie\, które odbędzie się na naszym 
 dachu. \n\nPartnerzy wydarzenia:\nBalmain\nHarper’s Bazaar Polska\nLa Ma
 nia\nChili Models\nRevitaLife Medical Clinic\nMoët & Chandon\npagano.offi
 cial\n@embryolisse_pl\n\nW czasie tej imprezy razem z naszymi Partnerami  
 przeniesiemy Was w modowy klimat wyjęty niczym z Fashion Week - pełen pi
 ęknych modelek\, ludzi z show biznesu\, stylizacji i dobrych drinków.\n\
 nObiecujemy\, to będzie gorąca noc! \n_____________________\n\nPIĄTEK\,
  18.10.2019\n_____________________\n\nZagrają: \nDj Romi\nDj Boogie \n___
 __________________\n\n*start: 22:00 / obowiązuje selekcja\n*rezerwacje: r
 eservation@theview.pl / +48 663 971 942\n*wstęp: \n- standard 30 PLN\n- z
 aproszenia FREE all night long\n- lista facebook: FREE do 23:00 (kliknij "
 wezmę udział")\n- między 3:00 a 4:00 wstęp FREE\n- wejście na imprez
 ę możliwe do godziny 4:00\n______________________\n\nTHE VIEW - LIKE NO 
 OTHER.
ATTACH;FMTTYPE=image/jpeg:https://night4u.pl/wp-content/uploads/2019/10/75
 869_image_72365321_2410497385664988_5505975944067678208_o.jpg
CATEGORIES:mazowieckie
LOCATION:The View Warsaw\, Twarda 18\, Warsaw\, 00-105\, Poland
GEO:52.23443;20.99936
X-APPLE-STRUCTURED-LOCATION;VALUE=URI;X-ADDRESS=Twarda 18\, Warsaw\, 00-105
 \, Poland;X-APPLE-RADIUS=100;X-TITLE=The View Warsaw:geo:52.23443,20.99936
END:VEVENT
BEGIN:VTIMEZONE
TZID:Europe/Warsaw
X-LIC-LOCATION:Europe/Warsaw
BEGIN:DAYLIGHT
DTSTART:20190331T030000
TZOFFSETFROM:+0100
TZOFFSETTO:+0200
TZNAME:CEST
END:DAYLIGHT
END:VTIMEZONE
END:VCALENDAR