BEGIN:VCALENDAR
VERSION:2.0
PRODID:-//wp-events-plugin.com//7.2.3.1//EN
TZID:Europe/Warsaw
X-WR-TIMEZONE:Europe/Warsaw
BEGIN:VEVENT
UID:1407@night4u.pl
DTSTART;TZID=Europe/Warsaw:20190216T190000
DTEND;TZID=Europe/Warsaw:20190216T230000
DTSTAMP:20181227T232323Z
URL:https://night4u.pl/wydarzenia/bedoes-olsztyn-kwiat-polskiej-mlodziezy/
SUMMARY:Bedoes - Olsztyn - Kwiat Polskiej Młodzieży
DESCRIPTION:Już 16.02.2019 Bedoes zagra swój pierwszy premierowy koncert 
 w Olsztynie promujący najnowszą płytę "Kwiat Polskiej Młodzieży"\n\n
 KPM Tour to zaledwie kilkanaście koncertów w wybranych miastach w Polsce
 . Po raz pierwszy szersza publika będzie miała okazję na żywo usłysze
 ć krążek. Na scenie poza samym Bedoesem pojawią się goście specjalni
 . Szczegóły niebawem.\n\nBilety online na https://going.pl/bedoes-olszty
 n\nI pula 39 zł \nII pula 45 zł\nIII pula 55 zł \n\nUWAGA!\nOsoby poni
 żej 16 roku życia mogą wziąć udział w koncercie tylko pod opieką os
 oby dorosłej i na wyłączną odpowiedzialność osoby dorosłej\, pod kt
 órej pieczą pozostaje\, po nabyciu biletów wstępu zarówno dla osoby m
 ałoletniej jak i dorosłej.\n\nOsoby niepełnoletnie\, które ukończyły
  16 lat\, mogą uczestniczyć w koncercie pod warunkiem posiadania ważneg
 o biletu oraz podpisanej zgody opiekunów \nprawnych na uczestnictwo w imp
 rezie.  \n\nOświadczenie do pobrania:\nhttp://soldoutagencja.pl/index.php
 /oswiadczenie-opiekuna/
ATTACH;FMTTYPE=image/jpeg:https://night4u.pl/wp-content/uploads/2018/12/66
 64_image_46257175_1440347749430636_6749163668232994816_o.jpg
CATEGORIES:warmińsko-mazurskie
LOCATION:\, \, 
X-APPLE-STRUCTURED-LOCATION;VALUE=URI;X-ADDRESS=\, ;X-APPLE-RADIUS=100;X-TI
 TLE=:geo:0,0
END:VEVENT
BEGIN:VTIMEZONE
TZID:Europe/Warsaw
X-LIC-LOCATION:Europe/Warsaw
BEGIN:STANDARD
DTSTART:20181028T020000
TZOFFSETFROM:+0200
TZOFFSETTO:+0100
TZNAME:CET
END:STANDARD
END:VTIMEZONE
END:VCALENDAR