BEGIN:VCALENDAR
VERSION:2.0
PRODID:-//wp-events-plugin.com//7.2.3.1//EN
TZID:Europe/Warsaw
X-WR-TIMEZONE:Europe/Warsaw
BEGIN:VEVENT
UID:51844@night4u.pl
DTSTART;TZID=Europe/Warsaw:20250621T160000
DTEND;TZID=Europe/Warsaw:20250622T235500
DTSTAMP:20250520T204653Z
URL:https://night4u.pl/wydarzenia/before-festival-2025-siedlce/
SUMMARY:BEFORE FESTIVAL 2025 - SIEDLCE
DESCRIPTION:🗓️ 21-22 Czerwca\n📍 SIEDLCE | Stanica\n🤫 LINE-UP: PA
 KTOFONIKA\, WHITE 2115\, JAN-RAPOWANIE\, SOBEL\, SZPAKU\, PRO8L3M\, CHIVAS
 \, KAZ BAŁAGANE\, ŻABSON\, KUBAN\n🏖️ Lato zaczyna się TUTAJ!\n\nBE
 FORE FESTIVAL już po pierwszej edycji na dobre zapisał się we wspomnien
 iach uczestników\, których było w tym roku 13000!\n\nWychodząc na prze
 ciw Waszym głosom\, na nadchodzący rok 2025 przygotowaliśmy wiele niesp
 odzianek\n\n🎤 Każdego dnia na naszej scenie zobaczycie 5 koncertów to
 powych artystów\n\n🏕️ Czekać na Was będzie pole namiotowe\, które
  będzie się znajdować tuż przy terenie festiwalu (na pole będziecie m
 ogli przyjechać dzień wcześniej w piątek i wyjechać na spokojnie w po
 niedziałek)\n\n🤝 Na terenie festiwalu będą czekać na Was strefy par
 tnerskie i strefa tatuażu (o którą tak pytaliście!)\n\n👕 BEFORE FES
 TIVAL 2025 - To również start pierwszego oficjalnego festiwalowego merch
 u!\n\n🎧 W sobotę po koncertach przygotujemy dla Was najlepszy after\n\
 nWięcej dowiecie się już niedługo!\n\nTeraz lećcie kupować bilety w 
 przedsprzedaży\, które właśnie wystartowały\nDla największych fanów
  BEFORE FESTIVAL przygotowaliśmy specjalne box’y z gadżetami 🎁\n\nC
 zy jesteście gotowi kolejny raz otworzyć z nami festiwalowy sezon w Pols
 ce?
ATTACH;FMTTYPE=image/jpeg:https://night4u.pl/wp-content/uploads/2025/05/BE
 FORE-FESTIVAL-2025-SIEDLCE.jpg
CATEGORIES:mazowieckie
LOCATION:Mazowiecka 80\, 08-110 Siedlce\, Mazowiecka 80\, 08-110 Siedlce\, 
X-APPLE-STRUCTURED-LOCATION;VALUE=URI;X-ADDRESS=Mazowiecka 80\, 08-110 Sied
 lce\, ;X-APPLE-RADIUS=100;X-TITLE=Mazowiecka 80\, 08-110 Siedlce:geo:0,0
END:VEVENT
BEGIN:VTIMEZONE
TZID:Europe/Warsaw
X-LIC-LOCATION:Europe/Warsaw
BEGIN:DAYLIGHT
DTSTART:20250330T030000
TZOFFSETFROM:+0100
TZOFFSETTO:+0200
TZNAME:CEST
END:DAYLIGHT
END:VTIMEZONE
END:VCALENDAR