BEGIN:VCALENDAR
VERSION:2.0
PRODID:-//wp-events-plugin.com//7.2.3.1//EN
TZID:Europe/Warsaw
X-WR-TIMEZONE:Europe/Warsaw
BEGIN:VEVENT
UID:4890@night4u.pl
DTSTART;TZID=Europe/Warsaw:20190125T200000
DTEND;TZID=Europe/Warsaw:20190127T050000
DTSTAMP:20190122T193537Z
URL:https://night4u.pl/wydarzenia/before-party-by-wsciekly-pies/
SUMMARY:Before party by Wściekły Pies
DESCRIPTION:Mamy zaszczyt Was zaprosić na ostatnią imprezę we Wściekły
 m Psie przed sesją! \n\nTym samym\, chcemy Wam przekazać wspaniałą wia
 domość! \nNiedziela 27.01.19 jest ostatnią imprezą w naszym klubie... 
 PRZED REMONTEM! ?\n\nZmieniamy się dla Was i mamy nadzieję\, że przyjdz
 iecie tłumnie\, ostatni raz zabawić się w starym klimacie! \n#wściekł
 ypiesbar
ATTACH;FMTTYPE=image/jpeg:https://night4u.pl/wp-content/uploads/2019/01/15
 586_image_50512666_1930550417042667_8679740962294988800_n.jpg
CATEGORIES:dolnośląskie
LOCATION:Wściekły Pies\, \, 
X-APPLE-STRUCTURED-LOCATION;VALUE=URI;X-ADDRESS=\, ;X-APPLE-RADIUS=100;X-TI
 TLE=Wściekły Pies:geo:0,0
END:VEVENT
BEGIN:VTIMEZONE
TZID:Europe/Warsaw
X-LIC-LOCATION:Europe/Warsaw
BEGIN:STANDARD
DTSTART:20181028T020000
TZOFFSETFROM:+0200
TZOFFSETTO:+0100
TZNAME:CET
END:STANDARD
END:VTIMEZONE
END:VCALENDAR